BEGIN:VCALENDAR
VERSION:2.0
PRODID:-//First Protestant Church Of New Braunfels - ECPv6.15.20//NONSGML v1.0//EN
CALSCALE:GREGORIAN
METHOD:PUBLISH
X-ORIGINAL-URL:https://firstprotestant.com
X-WR-CALDESC:Events for First Protestant Church Of New Braunfels
REFRESH-INTERVAL;VALUE=DURATION:PT1H
X-Robots-Tag:noindex
X-PUBLISHED-TTL:PT1H
BEGIN:VTIMEZONE
TZID:America/New_York
BEGIN:DAYLIGHT
TZOFFSETFROM:-0500
TZOFFSETTO:-0400
TZNAME:EDT
DTSTART:20210314T070000
END:DAYLIGHT
BEGIN:STANDARD
TZOFFSETFROM:-0400
TZOFFSETTO:-0500
TZNAME:EST
DTSTART:20211107T060000
END:STANDARD
BEGIN:DAYLIGHT
TZOFFSETFROM:-0500
TZOFFSETTO:-0400
TZNAME:EDT
DTSTART:20220313T070000
END:DAYLIGHT
BEGIN:STANDARD
TZOFFSETFROM:-0400
TZOFFSETTO:-0500
TZNAME:EST
DTSTART:20221106T060000
END:STANDARD
BEGIN:DAYLIGHT
TZOFFSETFROM:-0500
TZOFFSETTO:-0400
TZNAME:EDT
DTSTART:20230312T070000
END:DAYLIGHT
BEGIN:STANDARD
TZOFFSETFROM:-0400
TZOFFSETTO:-0500
TZNAME:EST
DTSTART:20231105T060000
END:STANDARD
END:VTIMEZONE
BEGIN:VTIMEZONE
TZID:America/Chicago
BEGIN:DAYLIGHT
TZOFFSETFROM:-0600
TZOFFSETTO:-0500
TZNAME:CDT
DTSTART:20210314T080000
END:DAYLIGHT
BEGIN:STANDARD
TZOFFSETFROM:-0500
TZOFFSETTO:-0600
TZNAME:CST
DTSTART:20211107T070000
END:STANDARD
BEGIN:DAYLIGHT
TZOFFSETFROM:-0600
TZOFFSETTO:-0500
TZNAME:CDT
DTSTART:20220313T080000
END:DAYLIGHT
BEGIN:STANDARD
TZOFFSETFROM:-0500
TZOFFSETTO:-0600
TZNAME:CST
DTSTART:20221106T070000
END:STANDARD
BEGIN:DAYLIGHT
TZOFFSETFROM:-0600
TZOFFSETTO:-0500
TZNAME:CDT
DTSTART:20230312T080000
END:DAYLIGHT
BEGIN:STANDARD
TZOFFSETFROM:-0500
TZOFFSETTO:-0600
TZNAME:CST
DTSTART:20231105T070000
END:STANDARD
END:VTIMEZONE
BEGIN:VEVENT
DTSTART;TZID=America/New_York:20220224T173000
DTEND;TZID=America/New_York:20220224T193000
DTSTAMP:20260421T104041
CREATED:20210330T170039Z
LAST-MODIFIED:20210331T173359Z
UID:10000069-1645723800-1645731000@firstprotestant.com
SUMMARY:Church Council Meeting
DESCRIPTION:Open Church Council Meeting at 5:30 in Schumann Hall.
URL:https://firstprotestant.com/event/church-council-meeting/2022-02-24/
CATEGORIES:Council
END:VEVENT
BEGIN:VEVENT
DTSTART;TZID=America/Chicago:20220226T170000
DTEND;TZID=America/Chicago:20220226T190000
DTSTAMP:20260421T104041
CREATED:20220223T200509Z
LAST-MODIFIED:20220223T200510Z
UID:10000385-1645894800-1645902000@firstprotestant.com
SUMMARY:BUNCO PARTY
DESCRIPTION:Saturday\, February 26th at 5pm at the New Braunfels Schuetzen Verein\, 391 Range Road.  Bring a friend or two\, $5 for each\, a soup\, salad or sandwiches and be ready for some fun!  Call Sally Voges is you have any questions\, 830-708-8707.
URL:https://firstprotestant.com/event/bunco-party/
END:VEVENT
END:VCALENDAR