BEGIN:VCALENDAR
VERSION:2.0
PRODID:-//First Protestant Church Of New Braunfels - ECPv6.15.20//NONSGML v1.0//EN
CALSCALE:GREGORIAN
METHOD:PUBLISH
X-WR-CALNAME:First Protestant Church Of New Braunfels
X-ORIGINAL-URL:https://firstprotestant.com
X-WR-CALDESC:Events for First Protestant Church Of New Braunfels
REFRESH-INTERVAL;VALUE=DURATION:PT1H
X-Robots-Tag:noindex
X-PUBLISHED-TTL:PT1H
BEGIN:VTIMEZONE
TZID:America/New_York
BEGIN:DAYLIGHT
TZOFFSETFROM:-0500
TZOFFSETTO:-0400
TZNAME:EDT
DTSTART:20210314T070000
END:DAYLIGHT
BEGIN:STANDARD
TZOFFSETFROM:-0400
TZOFFSETTO:-0500
TZNAME:EST
DTSTART:20211107T060000
END:STANDARD
BEGIN:DAYLIGHT
TZOFFSETFROM:-0500
TZOFFSETTO:-0400
TZNAME:EDT
DTSTART:20220313T070000
END:DAYLIGHT
BEGIN:STANDARD
TZOFFSETFROM:-0400
TZOFFSETTO:-0500
TZNAME:EST
DTSTART:20221106T060000
END:STANDARD
BEGIN:DAYLIGHT
TZOFFSETFROM:-0500
TZOFFSETTO:-0400
TZNAME:EDT
DTSTART:20230312T070000
END:DAYLIGHT
BEGIN:STANDARD
TZOFFSETFROM:-0400
TZOFFSETTO:-0500
TZNAME:EST
DTSTART:20231105T060000
END:STANDARD
END:VTIMEZONE
BEGIN:VEVENT
DTSTART;TZID=America/New_York:20220127T173000
DTEND;TZID=America/New_York:20220127T193000
DTSTAMP:20260421T090244
CREATED:20210330T170039Z
LAST-MODIFIED:20210331T173359Z
UID:10000068-1643304600-1643311800@firstprotestant.com
SUMMARY:Church Council Meeting
DESCRIPTION:Open Church Council Meeting at 5:30 in Schumann Hall.
URL:https://firstprotestant.com/event/church-council-meeting/2022-01-27/
CATEGORIES:Council
END:VEVENT
END:VCALENDAR