BEGIN:VCALENDAR
VERSION:2.0
PRODID:-//First Protestant Church Of New Braunfels - ECPv6.15.20//NONSGML v1.0//EN
CALSCALE:GREGORIAN
METHOD:PUBLISH
X-ORIGINAL-URL:https://firstprotestant.com
X-WR-CALDESC:Events for First Protestant Church Of New Braunfels
REFRESH-INTERVAL;VALUE=DURATION:PT1H
X-Robots-Tag:noindex
X-PUBLISHED-TTL:PT1H
BEGIN:VTIMEZONE
TZID:America/Chicago
BEGIN:DAYLIGHT
TZOFFSETFROM:-0600
TZOFFSETTO:-0500
TZNAME:CDT
DTSTART:20200308T080000
END:DAYLIGHT
BEGIN:STANDARD
TZOFFSETFROM:-0500
TZOFFSETTO:-0600
TZNAME:CST
DTSTART:20201101T070000
END:STANDARD
BEGIN:DAYLIGHT
TZOFFSETFROM:-0600
TZOFFSETTO:-0500
TZNAME:CDT
DTSTART:20210314T080000
END:DAYLIGHT
BEGIN:STANDARD
TZOFFSETFROM:-0500
TZOFFSETTO:-0600
TZNAME:CST
DTSTART:20211107T070000
END:STANDARD
BEGIN:DAYLIGHT
TZOFFSETFROM:-0600
TZOFFSETTO:-0500
TZNAME:CDT
DTSTART:20220313T080000
END:DAYLIGHT
BEGIN:STANDARD
TZOFFSETFROM:-0500
TZOFFSETTO:-0600
TZNAME:CST
DTSTART:20221106T070000
END:STANDARD
END:VTIMEZONE
BEGIN:VTIMEZONE
TZID:America/New_York
BEGIN:DAYLIGHT
TZOFFSETFROM:-0500
TZOFFSETTO:-0400
TZNAME:EDT
DTSTART:20200308T070000
END:DAYLIGHT
BEGIN:STANDARD
TZOFFSETFROM:-0400
TZOFFSETTO:-0500
TZNAME:EST
DTSTART:20201101T060000
END:STANDARD
BEGIN:DAYLIGHT
TZOFFSETFROM:-0500
TZOFFSETTO:-0400
TZNAME:EDT
DTSTART:20210314T070000
END:DAYLIGHT
BEGIN:STANDARD
TZOFFSETFROM:-0400
TZOFFSETTO:-0500
TZNAME:EST
DTSTART:20211107T060000
END:STANDARD
BEGIN:DAYLIGHT
TZOFFSETFROM:-0500
TZOFFSETTO:-0400
TZNAME:EDT
DTSTART:20220313T070000
END:DAYLIGHT
BEGIN:STANDARD
TZOFFSETFROM:-0400
TZOFFSETTO:-0500
TZNAME:EST
DTSTART:20221106T060000
END:STANDARD
END:VTIMEZONE
BEGIN:VEVENT
DTSTART;TZID=America/Chicago:20210913T100000
DTEND;TZID=America/Chicago:20210913T120000
DTSTAMP:20260421T042830
CREATED:20210331T175004Z
LAST-MODIFIED:20210910T154542Z
UID:10000157-1631527200-1631534400@firstprotestant.com
SUMMARY:Women's Ministry Meeting
DESCRIPTION:Women’s Ministries Meeting and Super September Salad Luncheon\, on Monday\, September 13th\, at 11:00 am. (THIS IS A TIME CHANGE.) Meeting followed by Pot Luck Salad Luncheon at Charlene Nolte’s Creek Bottom Farm\, 4907 FM1044\, New Braunfels\, TX.  Please bring a salad or dessert.  Paper goods\, snack packs\, and tea will be provided. \nPlease RSVP to creekbottomfarm@hotmail.com or text or call Charlene Nolte\, 830-660-3681\, to leave a message.  If you need driving directions\, please contact Charlene. \nFor those who would like to carpool\, please be at the church parking lot by 10:30 am.  If you are able to be a carpool driver\, please contact Daphne Spraitar at 703-407-0137 (text or cell).
URL:https://firstprotestant.com/event/womens-ministry-meeting-2021-09-13/
CATEGORIES:Adults
END:VEVENT
BEGIN:VEVENT
DTSTART;TZID=America/Chicago:20210921T183000
DTEND;TZID=America/Chicago:20210921T200000
DTSTAMP:20260421T042830
CREATED:20210331T172414Z
LAST-MODIFIED:20211007T181426Z
UID:10000086-1632249000-1632254400@firstprotestant.com
SUMMARY:Band of Brothers Men's Bible Study
DESCRIPTION:Join us as we dig into the Word the third Tuesday of every month.  We’ll announce our meeting place in the bulletin each month before the meeting. This group is open to all men.   For more info on this group\, contact Steve Stillman at shstillman@gmail.com or 512-619-1296.
URL:https://firstprotestant.com/event/band-of-brothers-mens-bible-study/2021-09-21/
CATEGORIES:Adults,Bible Study
END:VEVENT
BEGIN:VEVENT
DTSTART;TZID=America/New_York:20210923T173000
DTEND;TZID=America/New_York:20210923T193000
DTSTAMP:20260421T042830
CREATED:20210330T170039Z
LAST-MODIFIED:20210331T173359Z
UID:10000064-1632418200-1632425400@firstprotestant.com
SUMMARY:Church Council Meeting
DESCRIPTION:Open Church Council Meeting at 5:30 in Schumann Hall.
URL:https://firstprotestant.com/event/church-council-meeting/2021-09-23/
CATEGORIES:Council
END:VEVENT
BEGIN:VEVENT
DTSTART;TZID=America/Chicago:20210926T100000
DTEND;TZID=America/Chicago:20210926T130000
DTSTAMP:20260421T042830
CREATED:20210615T155944Z
LAST-MODIFIED:20210923T205534Z
UID:10000199-1632650400-1632661200@firstprotestant.com
SUMMARY:RODEO SUNDAY
DESCRIPTION:Join us in a Unified service on September 26th at 10am in the Sanctuary to celebrate the end of Comal County Fair with a Rodeo Sunday.  Music by Monte Good and the Honky Tonk Heroes Band\, followed by lunch in Schumann Hall prepared and served Charles Saur and his team!  $5/person or $20/family. Wear your western attire and join us for Traditional service and Contemporary service on this Sunday morning!
URL:https://firstprotestant.com/event/rodeo-sunday/
END:VEVENT
END:VCALENDAR