BEGIN:VCALENDAR
VERSION:2.0
PRODID:-//First Protestant Church Of New Braunfels - ECPv6.15.20//NONSGML v1.0//EN
CALSCALE:GREGORIAN
METHOD:PUBLISH
X-WR-CALNAME:First Protestant Church Of New Braunfels
X-ORIGINAL-URL:https://firstprotestant.com
X-WR-CALDESC:Events for First Protestant Church Of New Braunfels
REFRESH-INTERVAL;VALUE=DURATION:PT1H
X-Robots-Tag:noindex
X-PUBLISHED-TTL:PT1H
BEGIN:VTIMEZONE
TZID:America/Chicago
BEGIN:DAYLIGHT
TZOFFSETFROM:-0600
TZOFFSETTO:-0500
TZNAME:CDT
DTSTART:20270314T080000
END:DAYLIGHT
BEGIN:STANDARD
TZOFFSETFROM:-0500
TZOFFSETTO:-0600
TZNAME:CST
DTSTART:20271107T070000
END:STANDARD
BEGIN:DAYLIGHT
TZOFFSETFROM:-0600
TZOFFSETTO:-0500
TZNAME:CDT
DTSTART:20280312T080000
END:DAYLIGHT
BEGIN:STANDARD
TZOFFSETFROM:-0500
TZOFFSETTO:-0600
TZNAME:CST
DTSTART:20281105T070000
END:STANDARD
BEGIN:DAYLIGHT
TZOFFSETFROM:-0600
TZOFFSETTO:-0500
TZNAME:CDT
DTSTART:20290311T080000
END:DAYLIGHT
BEGIN:STANDARD
TZOFFSETFROM:-0500
TZOFFSETTO:-0600
TZNAME:CST
DTSTART:20291104T070000
END:STANDARD
END:VTIMEZONE
BEGIN:VEVENT
DTSTART;TZID=America/Chicago:20280809T170000
DTEND;TZID=America/Chicago:20280809T193000
DTSTAMP:20260422T171502
CREATED:20241219T021114Z
LAST-MODIFIED:20251216T204537Z
UID:10006360-1849453200-1849462200@firstprotestant.com
SUMMARY:Youth Fellowship - Wednesday
DESCRIPTION:5:00 pm – Dinner \n5:30 PM – Music options (Traditional & Contemporary) \n6:00 pm – Youth Choir \n6:30 pm – Bible Study & Fellowship
URL:https://firstprotestant.com/event/the-stream-wednesday-youth-2/2028-08-09/
CATEGORIES:Youth
END:VEVENT
BEGIN:VEVENT
DTSTART;TZID=America/Chicago:20280813T093000
DTEND;TZID=America/Chicago:20280813T103000
DTSTAMP:20260422T171502
CREATED:20250917T203836Z
LAST-MODIFIED:20251216T204802Z
UID:10003046-1849771800-1849775400@firstprotestant.com
SUMMARY:Youth Fellowship - Sundays
DESCRIPTION:Join us in the Bormann Room on Sunday mornings at 9:30am to worship\, study and have fellowship. Led by our youth team. If you have any questions about our program\, email: youth@firstprotestant.com.
URL:https://firstprotestant.com/event/merge-youth-sunday-school-2020-09-20-2-2/2028-08-13/
CATEGORIES:Youth
END:VEVENT
BEGIN:VEVENT
DTSTART;TZID=America/Chicago:20280814T160000
DTEND;TZID=America/Chicago:20280814T180000
DTSTAMP:20260422T171502
CREATED:20241219T021358Z
LAST-MODIFIED:20250717T143913Z
UID:10004152-1849881600-1849888800@firstprotestant.com
SUMMARY:Pickleball
DESCRIPTION:Mondays @ 4:00 pm \nIn Schumann Hall \nCall Celeste Salge for information \n830-620-8515
URL:https://firstprotestant.com/event/pickleball/2028-08-14/
CATEGORIES:Youth,Adults
ATTACH;FMTTYPE=image/png:https://firstprotestant.com/wp-content/uploads/2023/08/pickleball.png
END:VEVENT
BEGIN:VEVENT
DTSTART;TZID=America/Chicago:20280816T170000
DTEND;TZID=America/Chicago:20280816T193000
DTSTAMP:20260422T171502
CREATED:20241219T021114Z
LAST-MODIFIED:20251216T204537Z
UID:10006361-1850058000-1850067000@firstprotestant.com
SUMMARY:Youth Fellowship - Wednesday
DESCRIPTION:5:00 pm – Dinner \n5:30 PM – Music options (Traditional & Contemporary) \n6:00 pm – Youth Choir \n6:30 pm – Bible Study & Fellowship
URL:https://firstprotestant.com/event/the-stream-wednesday-youth-2/2028-08-16/
CATEGORIES:Youth
END:VEVENT
BEGIN:VEVENT
DTSTART;TZID=America/Chicago:20280820T093000
DTEND;TZID=America/Chicago:20280820T103000
DTSTAMP:20260422T171502
CREATED:20250917T203836Z
LAST-MODIFIED:20251216T204802Z
UID:10003047-1850376600-1850380200@firstprotestant.com
SUMMARY:Youth Fellowship - Sundays
DESCRIPTION:Join us in the Bormann Room on Sunday mornings at 9:30am to worship\, study and have fellowship. Led by our youth team. If you have any questions about our program\, email: youth@firstprotestant.com.
URL:https://firstprotestant.com/event/merge-youth-sunday-school-2020-09-20-2-2/2028-08-20/
CATEGORIES:Youth
END:VEVENT
BEGIN:VEVENT
DTSTART;TZID=America/Chicago:20280821T160000
DTEND;TZID=America/Chicago:20280821T180000
DTSTAMP:20260422T171502
CREATED:20241219T021358Z
LAST-MODIFIED:20250717T143913Z
UID:10004153-1850486400-1850493600@firstprotestant.com
SUMMARY:Pickleball
DESCRIPTION:Mondays @ 4:00 pm \nIn Schumann Hall \nCall Celeste Salge for information \n830-620-8515
URL:https://firstprotestant.com/event/pickleball/2028-08-21/
CATEGORIES:Youth,Adults
ATTACH;FMTTYPE=image/png:https://firstprotestant.com/wp-content/uploads/2023/08/pickleball.png
END:VEVENT
BEGIN:VEVENT
DTSTART;TZID=America/Chicago:20280823T170000
DTEND;TZID=America/Chicago:20280823T193000
DTSTAMP:20260422T171502
CREATED:20241219T021114Z
LAST-MODIFIED:20251216T204537Z
UID:10006362-1850662800-1850671800@firstprotestant.com
SUMMARY:Youth Fellowship - Wednesday
DESCRIPTION:5:00 pm – Dinner \n5:30 PM – Music options (Traditional & Contemporary) \n6:00 pm – Youth Choir \n6:30 pm – Bible Study & Fellowship
URL:https://firstprotestant.com/event/the-stream-wednesday-youth-2/2028-08-23/
CATEGORIES:Youth
END:VEVENT
BEGIN:VEVENT
DTSTART;TZID=America/Chicago:20280827T093000
DTEND;TZID=America/Chicago:20280827T103000
DTSTAMP:20260422T171502
CREATED:20250917T203836Z
LAST-MODIFIED:20251216T204802Z
UID:10003048-1850981400-1850985000@firstprotestant.com
SUMMARY:Youth Fellowship - Sundays
DESCRIPTION:Join us in the Bormann Room on Sunday mornings at 9:30am to worship\, study and have fellowship. Led by our youth team. If you have any questions about our program\, email: youth@firstprotestant.com.
URL:https://firstprotestant.com/event/merge-youth-sunday-school-2020-09-20-2-2/2028-08-27/
CATEGORIES:Youth
END:VEVENT
BEGIN:VEVENT
DTSTART;TZID=America/Chicago:20280828T160000
DTEND;TZID=America/Chicago:20280828T180000
DTSTAMP:20260422T171502
CREATED:20241219T021358Z
LAST-MODIFIED:20250717T143913Z
UID:10004154-1851091200-1851098400@firstprotestant.com
SUMMARY:Pickleball
DESCRIPTION:Mondays @ 4:00 pm \nIn Schumann Hall \nCall Celeste Salge for information \n830-620-8515
URL:https://firstprotestant.com/event/pickleball/2028-08-28/
CATEGORIES:Youth,Adults
ATTACH;FMTTYPE=image/png:https://firstprotestant.com/wp-content/uploads/2023/08/pickleball.png
END:VEVENT
BEGIN:VEVENT
DTSTART;TZID=America/Chicago:20280830T170000
DTEND;TZID=America/Chicago:20280830T193000
DTSTAMP:20260422T171502
CREATED:20241219T021114Z
LAST-MODIFIED:20251216T204537Z
UID:10006363-1851267600-1851276600@firstprotestant.com
SUMMARY:Youth Fellowship - Wednesday
DESCRIPTION:5:00 pm – Dinner \n5:30 PM – Music options (Traditional & Contemporary) \n6:00 pm – Youth Choir \n6:30 pm – Bible Study & Fellowship
URL:https://firstprotestant.com/event/the-stream-wednesday-youth-2/2028-08-30/
CATEGORIES:Youth
END:VEVENT
BEGIN:VEVENT
DTSTART;TZID=America/Chicago:20280903T093000
DTEND;TZID=America/Chicago:20280903T103000
DTSTAMP:20260422T171502
CREATED:20250917T203836Z
LAST-MODIFIED:20251216T204802Z
UID:10003049-1851586200-1851589800@firstprotestant.com
SUMMARY:Youth Fellowship - Sundays
DESCRIPTION:Join us in the Bormann Room on Sunday mornings at 9:30am to worship\, study and have fellowship. Led by our youth team. If you have any questions about our program\, email: youth@firstprotestant.com.
URL:https://firstprotestant.com/event/merge-youth-sunday-school-2020-09-20-2-2/2028-09-03/
CATEGORIES:Youth
END:VEVENT
BEGIN:VEVENT
DTSTART;TZID=America/Chicago:20280904T160000
DTEND;TZID=America/Chicago:20280904T180000
DTSTAMP:20260422T171502
CREATED:20241219T021358Z
LAST-MODIFIED:20250717T143913Z
UID:10004155-1851696000-1851703200@firstprotestant.com
SUMMARY:Pickleball
DESCRIPTION:Mondays @ 4:00 pm \nIn Schumann Hall \nCall Celeste Salge for information \n830-620-8515
URL:https://firstprotestant.com/event/pickleball/2028-09-04/
CATEGORIES:Youth,Adults
ATTACH;FMTTYPE=image/png:https://firstprotestant.com/wp-content/uploads/2023/08/pickleball.png
END:VEVENT
BEGIN:VEVENT
DTSTART;TZID=America/Chicago:20280906T170000
DTEND;TZID=America/Chicago:20280906T193000
DTSTAMP:20260422T171502
CREATED:20241219T021114Z
LAST-MODIFIED:20251216T204537Z
UID:10006364-1851872400-1851881400@firstprotestant.com
SUMMARY:Youth Fellowship - Wednesday
DESCRIPTION:5:00 pm – Dinner \n5:30 PM – Music options (Traditional & Contemporary) \n6:00 pm – Youth Choir \n6:30 pm – Bible Study & Fellowship
URL:https://firstprotestant.com/event/the-stream-wednesday-youth-2/2028-09-06/
CATEGORIES:Youth
END:VEVENT
BEGIN:VEVENT
DTSTART;TZID=America/Chicago:20280910T093000
DTEND;TZID=America/Chicago:20280910T103000
DTSTAMP:20260422T171502
CREATED:20250917T203836Z
LAST-MODIFIED:20251216T204802Z
UID:10003050-1852191000-1852194600@firstprotestant.com
SUMMARY:Youth Fellowship - Sundays
DESCRIPTION:Join us in the Bormann Room on Sunday mornings at 9:30am to worship\, study and have fellowship. Led by our youth team. If you have any questions about our program\, email: youth@firstprotestant.com.
URL:https://firstprotestant.com/event/merge-youth-sunday-school-2020-09-20-2-2/2028-09-10/
CATEGORIES:Youth
END:VEVENT
BEGIN:VEVENT
DTSTART;TZID=America/Chicago:20280911T160000
DTEND;TZID=America/Chicago:20280911T180000
DTSTAMP:20260422T171502
CREATED:20241219T021358Z
LAST-MODIFIED:20250717T143913Z
UID:10004156-1852300800-1852308000@firstprotestant.com
SUMMARY:Pickleball
DESCRIPTION:Mondays @ 4:00 pm \nIn Schumann Hall \nCall Celeste Salge for information \n830-620-8515
URL:https://firstprotestant.com/event/pickleball/2028-09-11/
CATEGORIES:Youth,Adults
ATTACH;FMTTYPE=image/png:https://firstprotestant.com/wp-content/uploads/2023/08/pickleball.png
END:VEVENT
BEGIN:VEVENT
DTSTART;TZID=America/Chicago:20280913T170000
DTEND;TZID=America/Chicago:20280913T193000
DTSTAMP:20260422T171502
CREATED:20241219T021114Z
LAST-MODIFIED:20251216T204537Z
UID:10006365-1852477200-1852486200@firstprotestant.com
SUMMARY:Youth Fellowship - Wednesday
DESCRIPTION:5:00 pm – Dinner \n5:30 PM – Music options (Traditional & Contemporary) \n6:00 pm – Youth Choir \n6:30 pm – Bible Study & Fellowship
URL:https://firstprotestant.com/event/the-stream-wednesday-youth-2/2028-09-13/
CATEGORIES:Youth
END:VEVENT
BEGIN:VEVENT
DTSTART;TZID=America/Chicago:20280917T093000
DTEND;TZID=America/Chicago:20280917T103000
DTSTAMP:20260422T171502
CREATED:20250917T203836Z
LAST-MODIFIED:20251216T204802Z
UID:10003051-1852795800-1852799400@firstprotestant.com
SUMMARY:Youth Fellowship - Sundays
DESCRIPTION:Join us in the Bormann Room on Sunday mornings at 9:30am to worship\, study and have fellowship. Led by our youth team. If you have any questions about our program\, email: youth@firstprotestant.com.
URL:https://firstprotestant.com/event/merge-youth-sunday-school-2020-09-20-2-2/2028-09-17/
CATEGORIES:Youth
END:VEVENT
BEGIN:VEVENT
DTSTART;TZID=America/Chicago:20280918T160000
DTEND;TZID=America/Chicago:20280918T180000
DTSTAMP:20260422T171502
CREATED:20241219T021358Z
LAST-MODIFIED:20250717T143913Z
UID:10004157-1852905600-1852912800@firstprotestant.com
SUMMARY:Pickleball
DESCRIPTION:Mondays @ 4:00 pm \nIn Schumann Hall \nCall Celeste Salge for information \n830-620-8515
URL:https://firstprotestant.com/event/pickleball/2028-09-18/
CATEGORIES:Youth,Adults
ATTACH;FMTTYPE=image/png:https://firstprotestant.com/wp-content/uploads/2023/08/pickleball.png
END:VEVENT
BEGIN:VEVENT
DTSTART;TZID=America/Chicago:20280920T170000
DTEND;TZID=America/Chicago:20280920T193000
DTSTAMP:20260422T171502
CREATED:20241219T021114Z
LAST-MODIFIED:20251216T204537Z
UID:10006366-1853082000-1853091000@firstprotestant.com
SUMMARY:Youth Fellowship - Wednesday
DESCRIPTION:5:00 pm – Dinner \n5:30 PM – Music options (Traditional & Contemporary) \n6:00 pm – Youth Choir \n6:30 pm – Bible Study & Fellowship
URL:https://firstprotestant.com/event/the-stream-wednesday-youth-2/2028-09-20/
CATEGORIES:Youth
END:VEVENT
BEGIN:VEVENT
DTSTART;TZID=America/Chicago:20280924T093000
DTEND;TZID=America/Chicago:20280924T103000
DTSTAMP:20260422T171502
CREATED:20250917T203836Z
LAST-MODIFIED:20251216T204802Z
UID:10003052-1853400600-1853404200@firstprotestant.com
SUMMARY:Youth Fellowship - Sundays
DESCRIPTION:Join us in the Bormann Room on Sunday mornings at 9:30am to worship\, study and have fellowship. Led by our youth team. If you have any questions about our program\, email: youth@firstprotestant.com.
URL:https://firstprotestant.com/event/merge-youth-sunday-school-2020-09-20-2-2/2028-09-24/
CATEGORIES:Youth
END:VEVENT
BEGIN:VEVENT
DTSTART;TZID=America/Chicago:20280925T160000
DTEND;TZID=America/Chicago:20280925T180000
DTSTAMP:20260422T171502
CREATED:20241219T021358Z
LAST-MODIFIED:20250717T143913Z
UID:10004158-1853510400-1853517600@firstprotestant.com
SUMMARY:Pickleball
DESCRIPTION:Mondays @ 4:00 pm \nIn Schumann Hall \nCall Celeste Salge for information \n830-620-8515
URL:https://firstprotestant.com/event/pickleball/2028-09-25/
CATEGORIES:Youth,Adults
ATTACH;FMTTYPE=image/png:https://firstprotestant.com/wp-content/uploads/2023/08/pickleball.png
END:VEVENT
BEGIN:VEVENT
DTSTART;TZID=America/Chicago:20280927T170000
DTEND;TZID=America/Chicago:20280927T193000
DTSTAMP:20260422T171502
CREATED:20241219T021114Z
LAST-MODIFIED:20251216T204537Z
UID:10006367-1853686800-1853695800@firstprotestant.com
SUMMARY:Youth Fellowship - Wednesday
DESCRIPTION:5:00 pm – Dinner \n5:30 PM – Music options (Traditional & Contemporary) \n6:00 pm – Youth Choir \n6:30 pm – Bible Study & Fellowship
URL:https://firstprotestant.com/event/the-stream-wednesday-youth-2/2028-09-27/
CATEGORIES:Youth
END:VEVENT
BEGIN:VEVENT
DTSTART;TZID=America/Chicago:20281001T093000
DTEND;TZID=America/Chicago:20281001T103000
DTSTAMP:20260422T171502
CREATED:20250917T203836Z
LAST-MODIFIED:20251216T204802Z
UID:10003053-1854005400-1854009000@firstprotestant.com
SUMMARY:Youth Fellowship - Sundays
DESCRIPTION:Join us in the Bormann Room on Sunday mornings at 9:30am to worship\, study and have fellowship. Led by our youth team. If you have any questions about our program\, email: youth@firstprotestant.com.
URL:https://firstprotestant.com/event/merge-youth-sunday-school-2020-09-20-2-2/2028-10-01/
CATEGORIES:Youth
END:VEVENT
BEGIN:VEVENT
DTSTART;TZID=America/Chicago:20281002T160000
DTEND;TZID=America/Chicago:20281002T180000
DTSTAMP:20260422T171502
CREATED:20241219T021358Z
LAST-MODIFIED:20250717T143913Z
UID:10004159-1854115200-1854122400@firstprotestant.com
SUMMARY:Pickleball
DESCRIPTION:Mondays @ 4:00 pm \nIn Schumann Hall \nCall Celeste Salge for information \n830-620-8515
URL:https://firstprotestant.com/event/pickleball/2028-10-02/
CATEGORIES:Youth,Adults
ATTACH;FMTTYPE=image/png:https://firstprotestant.com/wp-content/uploads/2023/08/pickleball.png
END:VEVENT
BEGIN:VEVENT
DTSTART;TZID=America/Chicago:20281004T170000
DTEND;TZID=America/Chicago:20281004T193000
DTSTAMP:20260422T171502
CREATED:20241219T021114Z
LAST-MODIFIED:20251216T204537Z
UID:10006368-1854291600-1854300600@firstprotestant.com
SUMMARY:Youth Fellowship - Wednesday
DESCRIPTION:5:00 pm – Dinner \n5:30 PM – Music options (Traditional & Contemporary) \n6:00 pm – Youth Choir \n6:30 pm – Bible Study & Fellowship
URL:https://firstprotestant.com/event/the-stream-wednesday-youth-2/2028-10-04/
CATEGORIES:Youth
END:VEVENT
BEGIN:VEVENT
DTSTART;TZID=America/Chicago:20281008T093000
DTEND;TZID=America/Chicago:20281008T103000
DTSTAMP:20260422T171502
CREATED:20250917T203836Z
LAST-MODIFIED:20251216T204802Z
UID:10003054-1854610200-1854613800@firstprotestant.com
SUMMARY:Youth Fellowship - Sundays
DESCRIPTION:Join us in the Bormann Room on Sunday mornings at 9:30am to worship\, study and have fellowship. Led by our youth team. If you have any questions about our program\, email: youth@firstprotestant.com.
URL:https://firstprotestant.com/event/merge-youth-sunday-school-2020-09-20-2-2/2028-10-08/
CATEGORIES:Youth
END:VEVENT
BEGIN:VEVENT
DTSTART;TZID=America/Chicago:20281009T160000
DTEND;TZID=America/Chicago:20281009T180000
DTSTAMP:20260422T171502
CREATED:20241219T021358Z
LAST-MODIFIED:20250717T143913Z
UID:10004160-1854720000-1854727200@firstprotestant.com
SUMMARY:Pickleball
DESCRIPTION:Mondays @ 4:00 pm \nIn Schumann Hall \nCall Celeste Salge for information \n830-620-8515
URL:https://firstprotestant.com/event/pickleball/2028-10-09/
CATEGORIES:Youth,Adults
ATTACH;FMTTYPE=image/png:https://firstprotestant.com/wp-content/uploads/2023/08/pickleball.png
END:VEVENT
BEGIN:VEVENT
DTSTART;TZID=America/Chicago:20281011T170000
DTEND;TZID=America/Chicago:20281011T193000
DTSTAMP:20260422T171502
CREATED:20241219T021114Z
LAST-MODIFIED:20251216T204537Z
UID:10006369-1854896400-1854905400@firstprotestant.com
SUMMARY:Youth Fellowship - Wednesday
DESCRIPTION:5:00 pm – Dinner \n5:30 PM – Music options (Traditional & Contemporary) \n6:00 pm – Youth Choir \n6:30 pm – Bible Study & Fellowship
URL:https://firstprotestant.com/event/the-stream-wednesday-youth-2/2028-10-11/
CATEGORIES:Youth
END:VEVENT
BEGIN:VEVENT
DTSTART;TZID=America/Chicago:20281015T093000
DTEND;TZID=America/Chicago:20281015T103000
DTSTAMP:20260422T171502
CREATED:20250917T203836Z
LAST-MODIFIED:20251216T204802Z
UID:10003055-1855215000-1855218600@firstprotestant.com
SUMMARY:Youth Fellowship - Sundays
DESCRIPTION:Join us in the Bormann Room on Sunday mornings at 9:30am to worship\, study and have fellowship. Led by our youth team. If you have any questions about our program\, email: youth@firstprotestant.com.
URL:https://firstprotestant.com/event/merge-youth-sunday-school-2020-09-20-2-2/2028-10-15/
CATEGORIES:Youth
END:VEVENT
BEGIN:VEVENT
DTSTART;TZID=America/Chicago:20281016T160000
DTEND;TZID=America/Chicago:20281016T180000
DTSTAMP:20260422T171502
CREATED:20241219T021358Z
LAST-MODIFIED:20250717T143913Z
UID:10004161-1855324800-1855332000@firstprotestant.com
SUMMARY:Pickleball
DESCRIPTION:Mondays @ 4:00 pm \nIn Schumann Hall \nCall Celeste Salge for information \n830-620-8515
URL:https://firstprotestant.com/event/pickleball/2028-10-16/
CATEGORIES:Youth,Adults
ATTACH;FMTTYPE=image/png:https://firstprotestant.com/wp-content/uploads/2023/08/pickleball.png
END:VEVENT
END:VCALENDAR