BEGIN:VCALENDAR
VERSION:2.0
PRODID:-//First Protestant Church Of New Braunfels - ECPv6.15.20//NONSGML v1.0//EN
CALSCALE:GREGORIAN
METHOD:PUBLISH
X-WR-CALNAME:First Protestant Church Of New Braunfels
X-ORIGINAL-URL:https://firstprotestant.com
X-WR-CALDESC:Events for First Protestant Church Of New Braunfels
REFRESH-INTERVAL;VALUE=DURATION:PT1H
X-Robots-Tag:noindex
X-PUBLISHED-TTL:PT1H
BEGIN:VTIMEZONE
TZID:America/Chicago
BEGIN:DAYLIGHT
TZOFFSETFROM:-0600
TZOFFSETTO:-0500
TZNAME:CDT
DTSTART:20290311T080000
END:DAYLIGHT
BEGIN:STANDARD
TZOFFSETFROM:-0500
TZOFFSETTO:-0600
TZNAME:CST
DTSTART:20291104T070000
END:STANDARD
BEGIN:DAYLIGHT
TZOFFSETFROM:-0600
TZOFFSETTO:-0500
TZNAME:CDT
DTSTART:20300310T080000
END:DAYLIGHT
BEGIN:STANDARD
TZOFFSETFROM:-0500
TZOFFSETTO:-0600
TZNAME:CST
DTSTART:20301103T070000
END:STANDARD
BEGIN:DAYLIGHT
TZOFFSETFROM:-0600
TZOFFSETTO:-0500
TZNAME:CDT
DTSTART:20310309T080000
END:DAYLIGHT
BEGIN:STANDARD
TZOFFSETFROM:-0500
TZOFFSETTO:-0600
TZNAME:CST
DTSTART:20311102T070000
END:STANDARD
END:VTIMEZONE
BEGIN:VEVENT
DTSTART;TZID=America/Chicago:20300311T160000
DTEND;TZID=America/Chicago:20300311T180000
DTSTAMP:20260425T193229
CREATED:20241219T021358Z
LAST-MODIFIED:20250717T143913Z
UID:10004958-1899475200-1899482400@firstprotestant.com
SUMMARY:Pickleball
DESCRIPTION:Mondays @ 4:00 pm \nIn Schumann Hall \nCall Celeste Salge for information \n830-620-8515
URL:https://firstprotestant.com/event/pickleball/2030-03-11/
CATEGORIES:Youth,Adults
ATTACH;FMTTYPE=image/png:https://firstprotestant.com/wp-content/uploads/2023/08/pickleball.png
END:VEVENT
BEGIN:VEVENT
DTSTART;TZID=America/Chicago:20300313T170000
DTEND;TZID=America/Chicago:20300313T193000
DTSTAMP:20260425T193229
CREATED:20241219T021114Z
LAST-MODIFIED:20251216T204537Z
UID:10006443-1899651600-1899660600@firstprotestant.com
SUMMARY:Youth Fellowship - Wednesday
DESCRIPTION:5:00 pm – Dinner \n5:30 PM – Music options (Traditional & Contemporary) \n6:00 pm – Youth Choir \n6:30 pm – Bible Study & Fellowship
URL:https://firstprotestant.com/event/the-stream-wednesday-youth-2/2030-03-13/
CATEGORIES:Youth
END:VEVENT
BEGIN:VEVENT
DTSTART;TZID=America/Chicago:20300317T093000
DTEND;TZID=America/Chicago:20300317T103000
DTSTAMP:20260425T193229
CREATED:20250917T203836Z
LAST-MODIFIED:20251216T204802Z
UID:10005808-1899970200-1899973800@firstprotestant.com
SUMMARY:Youth Fellowship - Sundays
DESCRIPTION:Join us in the Bormann Room on Sunday mornings at 9:30am to worship\, study and have fellowship. Led by our youth team. If you have any questions about our program\, email: youth@firstprotestant.com.
URL:https://firstprotestant.com/event/merge-youth-sunday-school-2020-09-20-2-2/2030-03-17/
CATEGORIES:Youth
END:VEVENT
BEGIN:VEVENT
DTSTART;TZID=America/Chicago:20300318T160000
DTEND;TZID=America/Chicago:20300318T180000
DTSTAMP:20260425T193229
CREATED:20241219T021358Z
LAST-MODIFIED:20250717T143913Z
UID:10004959-1900080000-1900087200@firstprotestant.com
SUMMARY:Pickleball
DESCRIPTION:Mondays @ 4:00 pm \nIn Schumann Hall \nCall Celeste Salge for information \n830-620-8515
URL:https://firstprotestant.com/event/pickleball/2030-03-18/
CATEGORIES:Youth,Adults
ATTACH;FMTTYPE=image/png:https://firstprotestant.com/wp-content/uploads/2023/08/pickleball.png
END:VEVENT
BEGIN:VEVENT
DTSTART;TZID=America/Chicago:20300320T170000
DTEND;TZID=America/Chicago:20300320T193000
DTSTAMP:20260425T193229
CREATED:20241219T021114Z
LAST-MODIFIED:20251216T204537Z
UID:10006444-1900256400-1900265400@firstprotestant.com
SUMMARY:Youth Fellowship - Wednesday
DESCRIPTION:5:00 pm – Dinner \n5:30 PM – Music options (Traditional & Contemporary) \n6:00 pm – Youth Choir \n6:30 pm – Bible Study & Fellowship
URL:https://firstprotestant.com/event/the-stream-wednesday-youth-2/2030-03-20/
CATEGORIES:Youth
END:VEVENT
BEGIN:VEVENT
DTSTART;TZID=America/Chicago:20300324T093000
DTEND;TZID=America/Chicago:20300324T103000
DTSTAMP:20260425T193229
CREATED:20250917T203836Z
LAST-MODIFIED:20251216T204802Z
UID:10005809-1900575000-1900578600@firstprotestant.com
SUMMARY:Youth Fellowship - Sundays
DESCRIPTION:Join us in the Bormann Room on Sunday mornings at 9:30am to worship\, study and have fellowship. Led by our youth team. If you have any questions about our program\, email: youth@firstprotestant.com.
URL:https://firstprotestant.com/event/merge-youth-sunday-school-2020-09-20-2-2/2030-03-24/
CATEGORIES:Youth
END:VEVENT
BEGIN:VEVENT
DTSTART;TZID=America/Chicago:20300325T160000
DTEND;TZID=America/Chicago:20300325T180000
DTSTAMP:20260425T193229
CREATED:20241219T021358Z
LAST-MODIFIED:20250717T143913Z
UID:10004960-1900684800-1900692000@firstprotestant.com
SUMMARY:Pickleball
DESCRIPTION:Mondays @ 4:00 pm \nIn Schumann Hall \nCall Celeste Salge for information \n830-620-8515
URL:https://firstprotestant.com/event/pickleball/2030-03-25/
CATEGORIES:Youth,Adults
ATTACH;FMTTYPE=image/png:https://firstprotestant.com/wp-content/uploads/2023/08/pickleball.png
END:VEVENT
BEGIN:VEVENT
DTSTART;TZID=America/Chicago:20300327T170000
DTEND;TZID=America/Chicago:20300327T193000
DTSTAMP:20260425T193229
CREATED:20241219T021114Z
LAST-MODIFIED:20251216T204537Z
UID:10006445-1900861200-1900870200@firstprotestant.com
SUMMARY:Youth Fellowship - Wednesday
DESCRIPTION:5:00 pm – Dinner \n5:30 PM – Music options (Traditional & Contemporary) \n6:00 pm – Youth Choir \n6:30 pm – Bible Study & Fellowship
URL:https://firstprotestant.com/event/the-stream-wednesday-youth-2/2030-03-27/
CATEGORIES:Youth
END:VEVENT
BEGIN:VEVENT
DTSTART;TZID=America/Chicago:20300331T093000
DTEND;TZID=America/Chicago:20300331T103000
DTSTAMP:20260425T193229
CREATED:20250917T203836Z
LAST-MODIFIED:20251216T204802Z
UID:10005810-1901179800-1901183400@firstprotestant.com
SUMMARY:Youth Fellowship - Sundays
DESCRIPTION:Join us in the Bormann Room on Sunday mornings at 9:30am to worship\, study and have fellowship. Led by our youth team. If you have any questions about our program\, email: youth@firstprotestant.com.
URL:https://firstprotestant.com/event/merge-youth-sunday-school-2020-09-20-2-2/2030-03-31/
CATEGORIES:Youth
END:VEVENT
BEGIN:VEVENT
DTSTART;TZID=America/Chicago:20300401T160000
DTEND;TZID=America/Chicago:20300401T180000
DTSTAMP:20260425T193229
CREATED:20241219T021358Z
LAST-MODIFIED:20250717T143913Z
UID:10004961-1901289600-1901296800@firstprotestant.com
SUMMARY:Pickleball
DESCRIPTION:Mondays @ 4:00 pm \nIn Schumann Hall \nCall Celeste Salge for information \n830-620-8515
URL:https://firstprotestant.com/event/pickleball/2030-04-01/
CATEGORIES:Youth,Adults
ATTACH;FMTTYPE=image/png:https://firstprotestant.com/wp-content/uploads/2023/08/pickleball.png
END:VEVENT
BEGIN:VEVENT
DTSTART;TZID=America/Chicago:20300403T170000
DTEND;TZID=America/Chicago:20300403T193000
DTSTAMP:20260425T193229
CREATED:20241219T021114Z
LAST-MODIFIED:20251216T204537Z
UID:10006446-1901466000-1901475000@firstprotestant.com
SUMMARY:Youth Fellowship - Wednesday
DESCRIPTION:5:00 pm – Dinner \n5:30 PM – Music options (Traditional & Contemporary) \n6:00 pm – Youth Choir \n6:30 pm – Bible Study & Fellowship
URL:https://firstprotestant.com/event/the-stream-wednesday-youth-2/2030-04-03/
CATEGORIES:Youth
END:VEVENT
BEGIN:VEVENT
DTSTART;TZID=America/Chicago:20300407T093000
DTEND;TZID=America/Chicago:20300407T103000
DTSTAMP:20260425T193229
CREATED:20250917T203836Z
LAST-MODIFIED:20251216T204802Z
UID:10005811-1901784600-1901788200@firstprotestant.com
SUMMARY:Youth Fellowship - Sundays
DESCRIPTION:Join us in the Bormann Room on Sunday mornings at 9:30am to worship\, study and have fellowship. Led by our youth team. If you have any questions about our program\, email: youth@firstprotestant.com.
URL:https://firstprotestant.com/event/merge-youth-sunday-school-2020-09-20-2-2/2030-04-07/
CATEGORIES:Youth
END:VEVENT
BEGIN:VEVENT
DTSTART;TZID=America/Chicago:20300408T160000
DTEND;TZID=America/Chicago:20300408T180000
DTSTAMP:20260425T193229
CREATED:20241219T021358Z
LAST-MODIFIED:20250717T143913Z
UID:10004962-1901894400-1901901600@firstprotestant.com
SUMMARY:Pickleball
DESCRIPTION:Mondays @ 4:00 pm \nIn Schumann Hall \nCall Celeste Salge for information \n830-620-8515
URL:https://firstprotestant.com/event/pickleball/2030-04-08/
CATEGORIES:Youth,Adults
ATTACH;FMTTYPE=image/png:https://firstprotestant.com/wp-content/uploads/2023/08/pickleball.png
END:VEVENT
BEGIN:VEVENT
DTSTART;TZID=America/Chicago:20300410T170000
DTEND;TZID=America/Chicago:20300410T193000
DTSTAMP:20260425T193229
CREATED:20241219T021114Z
LAST-MODIFIED:20251216T204537Z
UID:10006447-1902070800-1902079800@firstprotestant.com
SUMMARY:Youth Fellowship - Wednesday
DESCRIPTION:5:00 pm – Dinner \n5:30 PM – Music options (Traditional & Contemporary) \n6:00 pm – Youth Choir \n6:30 pm – Bible Study & Fellowship
URL:https://firstprotestant.com/event/the-stream-wednesday-youth-2/2030-04-10/
CATEGORIES:Youth
END:VEVENT
BEGIN:VEVENT
DTSTART;TZID=America/Chicago:20300414T093000
DTEND;TZID=America/Chicago:20300414T103000
DTSTAMP:20260425T193229
CREATED:20250917T203836Z
LAST-MODIFIED:20251216T204802Z
UID:10005812-1902389400-1902393000@firstprotestant.com
SUMMARY:Youth Fellowship - Sundays
DESCRIPTION:Join us in the Bormann Room on Sunday mornings at 9:30am to worship\, study and have fellowship. Led by our youth team. If you have any questions about our program\, email: youth@firstprotestant.com.
URL:https://firstprotestant.com/event/merge-youth-sunday-school-2020-09-20-2-2/2030-04-14/
CATEGORIES:Youth
END:VEVENT
BEGIN:VEVENT
DTSTART;TZID=America/Chicago:20300415T160000
DTEND;TZID=America/Chicago:20300415T180000
DTSTAMP:20260425T193229
CREATED:20241219T021358Z
LAST-MODIFIED:20250717T143913Z
UID:10004963-1902499200-1902506400@firstprotestant.com
SUMMARY:Pickleball
DESCRIPTION:Mondays @ 4:00 pm \nIn Schumann Hall \nCall Celeste Salge for information \n830-620-8515
URL:https://firstprotestant.com/event/pickleball/2030-04-15/
CATEGORIES:Youth,Adults
ATTACH;FMTTYPE=image/png:https://firstprotestant.com/wp-content/uploads/2023/08/pickleball.png
END:VEVENT
BEGIN:VEVENT
DTSTART;TZID=America/Chicago:20300417T170000
DTEND;TZID=America/Chicago:20300417T193000
DTSTAMP:20260425T193229
CREATED:20241219T021114Z
LAST-MODIFIED:20251216T204537Z
UID:10006448-1902675600-1902684600@firstprotestant.com
SUMMARY:Youth Fellowship - Wednesday
DESCRIPTION:5:00 pm – Dinner \n5:30 PM – Music options (Traditional & Contemporary) \n6:00 pm – Youth Choir \n6:30 pm – Bible Study & Fellowship
URL:https://firstprotestant.com/event/the-stream-wednesday-youth-2/2030-04-17/
CATEGORIES:Youth
END:VEVENT
BEGIN:VEVENT
DTSTART;TZID=America/Chicago:20300421T093000
DTEND;TZID=America/Chicago:20300421T103000
DTSTAMP:20260425T193229
CREATED:20250917T203836Z
LAST-MODIFIED:20251216T204802Z
UID:10005813-1902994200-1902997800@firstprotestant.com
SUMMARY:Youth Fellowship - Sundays
DESCRIPTION:Join us in the Bormann Room on Sunday mornings at 9:30am to worship\, study and have fellowship. Led by our youth team. If you have any questions about our program\, email: youth@firstprotestant.com.
URL:https://firstprotestant.com/event/merge-youth-sunday-school-2020-09-20-2-2/2030-04-21/
CATEGORIES:Youth
END:VEVENT
BEGIN:VEVENT
DTSTART;TZID=America/Chicago:20300422T160000
DTEND;TZID=America/Chicago:20300422T180000
DTSTAMP:20260425T193229
CREATED:20241219T021358Z
LAST-MODIFIED:20250717T143913Z
UID:10004964-1903104000-1903111200@firstprotestant.com
SUMMARY:Pickleball
DESCRIPTION:Mondays @ 4:00 pm \nIn Schumann Hall \nCall Celeste Salge for information \n830-620-8515
URL:https://firstprotestant.com/event/pickleball/2030-04-22/
CATEGORIES:Youth,Adults
ATTACH;FMTTYPE=image/png:https://firstprotestant.com/wp-content/uploads/2023/08/pickleball.png
END:VEVENT
BEGIN:VEVENT
DTSTART;TZID=America/Chicago:20300424T170000
DTEND;TZID=America/Chicago:20300424T193000
DTSTAMP:20260425T193229
CREATED:20241219T021114Z
LAST-MODIFIED:20251216T204537Z
UID:10006449-1903280400-1903289400@firstprotestant.com
SUMMARY:Youth Fellowship - Wednesday
DESCRIPTION:5:00 pm – Dinner \n5:30 PM – Music options (Traditional & Contemporary) \n6:00 pm – Youth Choir \n6:30 pm – Bible Study & Fellowship
URL:https://firstprotestant.com/event/the-stream-wednesday-youth-2/2030-04-24/
CATEGORIES:Youth
END:VEVENT
BEGIN:VEVENT
DTSTART;TZID=America/Chicago:20300428T093000
DTEND;TZID=America/Chicago:20300428T103000
DTSTAMP:20260425T193229
CREATED:20250917T203836Z
LAST-MODIFIED:20251216T204802Z
UID:10005814-1903599000-1903602600@firstprotestant.com
SUMMARY:Youth Fellowship - Sundays
DESCRIPTION:Join us in the Bormann Room on Sunday mornings at 9:30am to worship\, study and have fellowship. Led by our youth team. If you have any questions about our program\, email: youth@firstprotestant.com.
URL:https://firstprotestant.com/event/merge-youth-sunday-school-2020-09-20-2-2/2030-04-28/
CATEGORIES:Youth
END:VEVENT
BEGIN:VEVENT
DTSTART;TZID=America/Chicago:20300429T160000
DTEND;TZID=America/Chicago:20300429T180000
DTSTAMP:20260425T193229
CREATED:20241219T021358Z
LAST-MODIFIED:20250717T143913Z
UID:10004965-1903708800-1903716000@firstprotestant.com
SUMMARY:Pickleball
DESCRIPTION:Mondays @ 4:00 pm \nIn Schumann Hall \nCall Celeste Salge for information \n830-620-8515
URL:https://firstprotestant.com/event/pickleball/2030-04-29/
CATEGORIES:Youth,Adults
ATTACH;FMTTYPE=image/png:https://firstprotestant.com/wp-content/uploads/2023/08/pickleball.png
END:VEVENT
BEGIN:VEVENT
DTSTART;TZID=America/Chicago:20300501T170000
DTEND;TZID=America/Chicago:20300501T193000
DTSTAMP:20260425T193229
CREATED:20241219T021114Z
LAST-MODIFIED:20251216T204537Z
UID:10006450-1903885200-1903894200@firstprotestant.com
SUMMARY:Youth Fellowship - Wednesday
DESCRIPTION:5:00 pm – Dinner \n5:30 PM – Music options (Traditional & Contemporary) \n6:00 pm – Youth Choir \n6:30 pm – Bible Study & Fellowship
URL:https://firstprotestant.com/event/the-stream-wednesday-youth-2/2030-05-01/
CATEGORIES:Youth
END:VEVENT
BEGIN:VEVENT
DTSTART;TZID=America/Chicago:20300505T093000
DTEND;TZID=America/Chicago:20300505T103000
DTSTAMP:20260425T193229
CREATED:20250917T203836Z
LAST-MODIFIED:20251216T204802Z
UID:10005815-1904203800-1904207400@firstprotestant.com
SUMMARY:Youth Fellowship - Sundays
DESCRIPTION:Join us in the Bormann Room on Sunday mornings at 9:30am to worship\, study and have fellowship. Led by our youth team. If you have any questions about our program\, email: youth@firstprotestant.com.
URL:https://firstprotestant.com/event/merge-youth-sunday-school-2020-09-20-2-2/2030-05-05/
CATEGORIES:Youth
END:VEVENT
BEGIN:VEVENT
DTSTART;TZID=America/Chicago:20300506T160000
DTEND;TZID=America/Chicago:20300506T180000
DTSTAMP:20260425T193229
CREATED:20241219T021358Z
LAST-MODIFIED:20250717T143913Z
UID:10004966-1904313600-1904320800@firstprotestant.com
SUMMARY:Pickleball
DESCRIPTION:Mondays @ 4:00 pm \nIn Schumann Hall \nCall Celeste Salge for information \n830-620-8515
URL:https://firstprotestant.com/event/pickleball/2030-05-06/
CATEGORIES:Youth,Adults
ATTACH;FMTTYPE=image/png:https://firstprotestant.com/wp-content/uploads/2023/08/pickleball.png
END:VEVENT
BEGIN:VEVENT
DTSTART;TZID=America/Chicago:20300508T170000
DTEND;TZID=America/Chicago:20300508T193000
DTSTAMP:20260425T193229
CREATED:20241219T021114Z
LAST-MODIFIED:20251216T204537Z
UID:10006451-1904490000-1904499000@firstprotestant.com
SUMMARY:Youth Fellowship - Wednesday
DESCRIPTION:5:00 pm – Dinner \n5:30 PM – Music options (Traditional & Contemporary) \n6:00 pm – Youth Choir \n6:30 pm – Bible Study & Fellowship
URL:https://firstprotestant.com/event/the-stream-wednesday-youth-2/2030-05-08/
CATEGORIES:Youth
END:VEVENT
BEGIN:VEVENT
DTSTART;TZID=America/Chicago:20300512T093000
DTEND;TZID=America/Chicago:20300512T103000
DTSTAMP:20260425T193229
CREATED:20250917T203836Z
LAST-MODIFIED:20251216T204802Z
UID:10005816-1904808600-1904812200@firstprotestant.com
SUMMARY:Youth Fellowship - Sundays
DESCRIPTION:Join us in the Bormann Room on Sunday mornings at 9:30am to worship\, study and have fellowship. Led by our youth team. If you have any questions about our program\, email: youth@firstprotestant.com.
URL:https://firstprotestant.com/event/merge-youth-sunday-school-2020-09-20-2-2/2030-05-12/
CATEGORIES:Youth
END:VEVENT
BEGIN:VEVENT
DTSTART;TZID=America/Chicago:20300513T160000
DTEND;TZID=America/Chicago:20300513T180000
DTSTAMP:20260425T193229
CREATED:20241219T021358Z
LAST-MODIFIED:20250717T143913Z
UID:10004967-1904918400-1904925600@firstprotestant.com
SUMMARY:Pickleball
DESCRIPTION:Mondays @ 4:00 pm \nIn Schumann Hall \nCall Celeste Salge for information \n830-620-8515
URL:https://firstprotestant.com/event/pickleball/2030-05-13/
CATEGORIES:Youth,Adults
ATTACH;FMTTYPE=image/png:https://firstprotestant.com/wp-content/uploads/2023/08/pickleball.png
END:VEVENT
BEGIN:VEVENT
DTSTART;TZID=America/Chicago:20300515T170000
DTEND;TZID=America/Chicago:20300515T193000
DTSTAMP:20260425T193229
CREATED:20241219T021114Z
LAST-MODIFIED:20251216T204537Z
UID:10006452-1905094800-1905103800@firstprotestant.com
SUMMARY:Youth Fellowship - Wednesday
DESCRIPTION:5:00 pm – Dinner \n5:30 PM – Music options (Traditional & Contemporary) \n6:00 pm – Youth Choir \n6:30 pm – Bible Study & Fellowship
URL:https://firstprotestant.com/event/the-stream-wednesday-youth-2/2030-05-15/
CATEGORIES:Youth
END:VEVENT
BEGIN:VEVENT
DTSTART;TZID=America/Chicago:20300519T093000
DTEND;TZID=America/Chicago:20300519T103000
DTSTAMP:20260425T193229
CREATED:20250917T203836Z
LAST-MODIFIED:20251216T204802Z
UID:10005817-1905413400-1905417000@firstprotestant.com
SUMMARY:Youth Fellowship - Sundays
DESCRIPTION:Join us in the Bormann Room on Sunday mornings at 9:30am to worship\, study and have fellowship. Led by our youth team. If you have any questions about our program\, email: youth@firstprotestant.com.
URL:https://firstprotestant.com/event/merge-youth-sunday-school-2020-09-20-2-2/2030-05-19/
CATEGORIES:Youth
END:VEVENT
END:VCALENDAR