BEGIN:VCALENDAR
VERSION:2.0
PRODID:-//First Protestant Church Of New Braunfels - ECPv6.15.20//NONSGML v1.0//EN
CALSCALE:GREGORIAN
METHOD:PUBLISH
X-ORIGINAL-URL:https://firstprotestant.com
X-WR-CALDESC:Events for First Protestant Church Of New Braunfels
REFRESH-INTERVAL;VALUE=DURATION:PT1H
X-Robots-Tag:noindex
X-PUBLISHED-TTL:PT1H
BEGIN:VTIMEZONE
TZID:America/Chicago
BEGIN:DAYLIGHT
TZOFFSETFROM:-0600
TZOFFSETTO:-0500
TZNAME:CDT
DTSTART:20270314T080000
END:DAYLIGHT
BEGIN:STANDARD
TZOFFSETFROM:-0500
TZOFFSETTO:-0600
TZNAME:CST
DTSTART:20271107T070000
END:STANDARD
BEGIN:DAYLIGHT
TZOFFSETFROM:-0600
TZOFFSETTO:-0500
TZNAME:CDT
DTSTART:20280312T080000
END:DAYLIGHT
BEGIN:STANDARD
TZOFFSETFROM:-0500
TZOFFSETTO:-0600
TZNAME:CST
DTSTART:20281105T070000
END:STANDARD
BEGIN:DAYLIGHT
TZOFFSETFROM:-0600
TZOFFSETTO:-0500
TZNAME:CDT
DTSTART:20290311T080000
END:DAYLIGHT
BEGIN:STANDARD
TZOFFSETFROM:-0500
TZOFFSETTO:-0600
TZNAME:CST
DTSTART:20291104T070000
END:STANDARD
END:VTIMEZONE
BEGIN:VEVENT
DTSTART;TZID=America/Chicago:20281022T093000
DTEND;TZID=America/Chicago:20281022T103000
DTSTAMP:20260422T171639
CREATED:20250917T203836Z
LAST-MODIFIED:20251216T204802Z
UID:10003056-1855819800-1855823400@firstprotestant.com
SUMMARY:Youth Fellowship - Sundays
DESCRIPTION:Join us in the Bormann Room on Sunday mornings at 9:30am to worship\, study and have fellowship. Led by our youth team. If you have any questions about our program\, email: youth@firstprotestant.com.
URL:https://firstprotestant.com/event/merge-youth-sunday-school-2020-09-20-2-2/2028-10-22/
CATEGORIES:Youth
END:VEVENT
BEGIN:VEVENT
DTSTART;TZID=America/Chicago:20281023T160000
DTEND;TZID=America/Chicago:20281023T180000
DTSTAMP:20260422T171639
CREATED:20241219T021358Z
LAST-MODIFIED:20250717T143913Z
UID:10004162-1855929600-1855936800@firstprotestant.com
SUMMARY:Pickleball
DESCRIPTION:Mondays @ 4:00 pm \nIn Schumann Hall \nCall Celeste Salge for information \n830-620-8515
URL:https://firstprotestant.com/event/pickleball/2028-10-23/
CATEGORIES:Youth,Adults
ATTACH;FMTTYPE=image/png:https://firstprotestant.com/wp-content/uploads/2023/08/pickleball.png
END:VEVENT
BEGIN:VEVENT
DTSTART;TZID=America/Chicago:20281025T170000
DTEND;TZID=America/Chicago:20281025T193000
DTSTAMP:20260422T171639
CREATED:20241219T021114Z
LAST-MODIFIED:20251216T204537Z
UID:10006371-1856106000-1856115000@firstprotestant.com
SUMMARY:Youth Fellowship - Wednesday
DESCRIPTION:5:00 pm – Dinner \n5:30 PM – Music options (Traditional & Contemporary) \n6:00 pm – Youth Choir \n6:30 pm – Bible Study & Fellowship
URL:https://firstprotestant.com/event/the-stream-wednesday-youth-2/2028-10-25/
CATEGORIES:Youth
END:VEVENT
BEGIN:VEVENT
DTSTART;TZID=America/Chicago:20281029T093000
DTEND;TZID=America/Chicago:20281029T103000
DTSTAMP:20260422T171639
CREATED:20250917T203836Z
LAST-MODIFIED:20251216T204802Z
UID:10003057-1856424600-1856428200@firstprotestant.com
SUMMARY:Youth Fellowship - Sundays
DESCRIPTION:Join us in the Bormann Room on Sunday mornings at 9:30am to worship\, study and have fellowship. Led by our youth team. If you have any questions about our program\, email: youth@firstprotestant.com.
URL:https://firstprotestant.com/event/merge-youth-sunday-school-2020-09-20-2-2/2028-10-29/
CATEGORIES:Youth
END:VEVENT
BEGIN:VEVENT
DTSTART;TZID=America/Chicago:20281030T160000
DTEND;TZID=America/Chicago:20281030T180000
DTSTAMP:20260422T171639
CREATED:20241219T021358Z
LAST-MODIFIED:20250717T143913Z
UID:10004163-1856534400-1856541600@firstprotestant.com
SUMMARY:Pickleball
DESCRIPTION:Mondays @ 4:00 pm \nIn Schumann Hall \nCall Celeste Salge for information \n830-620-8515
URL:https://firstprotestant.com/event/pickleball/2028-10-30/
CATEGORIES:Youth,Adults
ATTACH;FMTTYPE=image/png:https://firstprotestant.com/wp-content/uploads/2023/08/pickleball.png
END:VEVENT
BEGIN:VEVENT
DTSTART;TZID=America/Chicago:20281101T170000
DTEND;TZID=America/Chicago:20281101T193000
DTSTAMP:20260422T171639
CREATED:20241219T021114Z
LAST-MODIFIED:20251216T204537Z
UID:10006372-1856710800-1856719800@firstprotestant.com
SUMMARY:Youth Fellowship - Wednesday
DESCRIPTION:5:00 pm – Dinner \n5:30 PM – Music options (Traditional & Contemporary) \n6:00 pm – Youth Choir \n6:30 pm – Bible Study & Fellowship
URL:https://firstprotestant.com/event/the-stream-wednesday-youth-2/2028-11-01/
CATEGORIES:Youth
END:VEVENT
BEGIN:VEVENT
DTSTART;TZID=America/Chicago:20281105T093000
DTEND;TZID=America/Chicago:20281105T103000
DTSTAMP:20260422T171639
CREATED:20250917T203836Z
LAST-MODIFIED:20251216T204802Z
UID:10003058-1857029400-1857033000@firstprotestant.com
SUMMARY:Youth Fellowship - Sundays
DESCRIPTION:Join us in the Bormann Room on Sunday mornings at 9:30am to worship\, study and have fellowship. Led by our youth team. If you have any questions about our program\, email: youth@firstprotestant.com.
URL:https://firstprotestant.com/event/merge-youth-sunday-school-2020-09-20-2-2/2028-11-05/
CATEGORIES:Youth
END:VEVENT
BEGIN:VEVENT
DTSTART;TZID=America/Chicago:20281106T160000
DTEND;TZID=America/Chicago:20281106T180000
DTSTAMP:20260422T171639
CREATED:20241219T021358Z
LAST-MODIFIED:20250717T143913Z
UID:10004164-1857139200-1857146400@firstprotestant.com
SUMMARY:Pickleball
DESCRIPTION:Mondays @ 4:00 pm \nIn Schumann Hall \nCall Celeste Salge for information \n830-620-8515
URL:https://firstprotestant.com/event/pickleball/2028-11-06/
CATEGORIES:Youth,Adults
ATTACH;FMTTYPE=image/png:https://firstprotestant.com/wp-content/uploads/2023/08/pickleball.png
END:VEVENT
BEGIN:VEVENT
DTSTART;TZID=America/Chicago:20281108T170000
DTEND;TZID=America/Chicago:20281108T193000
DTSTAMP:20260422T171639
CREATED:20241219T021114Z
LAST-MODIFIED:20251216T204537Z
UID:10006373-1857315600-1857324600@firstprotestant.com
SUMMARY:Youth Fellowship - Wednesday
DESCRIPTION:5:00 pm – Dinner \n5:30 PM – Music options (Traditional & Contemporary) \n6:00 pm – Youth Choir \n6:30 pm – Bible Study & Fellowship
URL:https://firstprotestant.com/event/the-stream-wednesday-youth-2/2028-11-08/
CATEGORIES:Youth
END:VEVENT
BEGIN:VEVENT
DTSTART;TZID=America/Chicago:20281112T093000
DTEND;TZID=America/Chicago:20281112T103000
DTSTAMP:20260422T171639
CREATED:20250917T203836Z
LAST-MODIFIED:20251216T204802Z
UID:10003059-1857634200-1857637800@firstprotestant.com
SUMMARY:Youth Fellowship - Sundays
DESCRIPTION:Join us in the Bormann Room on Sunday mornings at 9:30am to worship\, study and have fellowship. Led by our youth team. If you have any questions about our program\, email: youth@firstprotestant.com.
URL:https://firstprotestant.com/event/merge-youth-sunday-school-2020-09-20-2-2/2028-11-12/
CATEGORIES:Youth
END:VEVENT
BEGIN:VEVENT
DTSTART;TZID=America/Chicago:20281113T160000
DTEND;TZID=America/Chicago:20281113T180000
DTSTAMP:20260422T171639
CREATED:20241219T021358Z
LAST-MODIFIED:20250717T143913Z
UID:10004165-1857744000-1857751200@firstprotestant.com
SUMMARY:Pickleball
DESCRIPTION:Mondays @ 4:00 pm \nIn Schumann Hall \nCall Celeste Salge for information \n830-620-8515
URL:https://firstprotestant.com/event/pickleball/2028-11-13/
CATEGORIES:Youth,Adults
ATTACH;FMTTYPE=image/png:https://firstprotestant.com/wp-content/uploads/2023/08/pickleball.png
END:VEVENT
BEGIN:VEVENT
DTSTART;TZID=America/Chicago:20281115T170000
DTEND;TZID=America/Chicago:20281115T193000
DTSTAMP:20260422T171639
CREATED:20241219T021114Z
LAST-MODIFIED:20251216T204537Z
UID:10006374-1857920400-1857929400@firstprotestant.com
SUMMARY:Youth Fellowship - Wednesday
DESCRIPTION:5:00 pm – Dinner \n5:30 PM – Music options (Traditional & Contemporary) \n6:00 pm – Youth Choir \n6:30 pm – Bible Study & Fellowship
URL:https://firstprotestant.com/event/the-stream-wednesday-youth-2/2028-11-15/
CATEGORIES:Youth
END:VEVENT
BEGIN:VEVENT
DTSTART;TZID=America/Chicago:20281119T093000
DTEND;TZID=America/Chicago:20281119T103000
DTSTAMP:20260422T171639
CREATED:20250917T203836Z
LAST-MODIFIED:20251216T204802Z
UID:10003060-1858239000-1858242600@firstprotestant.com
SUMMARY:Youth Fellowship - Sundays
DESCRIPTION:Join us in the Bormann Room on Sunday mornings at 9:30am to worship\, study and have fellowship. Led by our youth team. If you have any questions about our program\, email: youth@firstprotestant.com.
URL:https://firstprotestant.com/event/merge-youth-sunday-school-2020-09-20-2-2/2028-11-19/
CATEGORIES:Youth
END:VEVENT
BEGIN:VEVENT
DTSTART;TZID=America/Chicago:20281120T160000
DTEND;TZID=America/Chicago:20281120T180000
DTSTAMP:20260422T171639
CREATED:20241219T021358Z
LAST-MODIFIED:20250717T143913Z
UID:10004166-1858348800-1858356000@firstprotestant.com
SUMMARY:Pickleball
DESCRIPTION:Mondays @ 4:00 pm \nIn Schumann Hall \nCall Celeste Salge for information \n830-620-8515
URL:https://firstprotestant.com/event/pickleball/2028-11-20/
CATEGORIES:Youth,Adults
ATTACH;FMTTYPE=image/png:https://firstprotestant.com/wp-content/uploads/2023/08/pickleball.png
END:VEVENT
BEGIN:VEVENT
DTSTART;TZID=America/Chicago:20281122T170000
DTEND;TZID=America/Chicago:20281122T193000
DTSTAMP:20260422T171639
CREATED:20241219T021114Z
LAST-MODIFIED:20251216T204537Z
UID:10006375-1858525200-1858534200@firstprotestant.com
SUMMARY:Youth Fellowship - Wednesday
DESCRIPTION:5:00 pm – Dinner \n5:30 PM – Music options (Traditional & Contemporary) \n6:00 pm – Youth Choir \n6:30 pm – Bible Study & Fellowship
URL:https://firstprotestant.com/event/the-stream-wednesday-youth-2/2028-11-22/
CATEGORIES:Youth
END:VEVENT
BEGIN:VEVENT
DTSTART;TZID=America/Chicago:20281126T093000
DTEND;TZID=America/Chicago:20281126T103000
DTSTAMP:20260422T171639
CREATED:20250917T203836Z
LAST-MODIFIED:20251216T204802Z
UID:10003061-1858843800-1858847400@firstprotestant.com
SUMMARY:Youth Fellowship - Sundays
DESCRIPTION:Join us in the Bormann Room on Sunday mornings at 9:30am to worship\, study and have fellowship. Led by our youth team. If you have any questions about our program\, email: youth@firstprotestant.com.
URL:https://firstprotestant.com/event/merge-youth-sunday-school-2020-09-20-2-2/2028-11-26/
CATEGORIES:Youth
END:VEVENT
BEGIN:VEVENT
DTSTART;TZID=America/Chicago:20281127T160000
DTEND;TZID=America/Chicago:20281127T180000
DTSTAMP:20260422T171639
CREATED:20241219T021358Z
LAST-MODIFIED:20250717T143913Z
UID:10004167-1858953600-1858960800@firstprotestant.com
SUMMARY:Pickleball
DESCRIPTION:Mondays @ 4:00 pm \nIn Schumann Hall \nCall Celeste Salge for information \n830-620-8515
URL:https://firstprotestant.com/event/pickleball/2028-11-27/
CATEGORIES:Youth,Adults
ATTACH;FMTTYPE=image/png:https://firstprotestant.com/wp-content/uploads/2023/08/pickleball.png
END:VEVENT
BEGIN:VEVENT
DTSTART;TZID=America/Chicago:20281129T170000
DTEND;TZID=America/Chicago:20281129T193000
DTSTAMP:20260422T171639
CREATED:20241219T021114Z
LAST-MODIFIED:20251216T204537Z
UID:10006376-1859130000-1859139000@firstprotestant.com
SUMMARY:Youth Fellowship - Wednesday
DESCRIPTION:5:00 pm – Dinner \n5:30 PM – Music options (Traditional & Contemporary) \n6:00 pm – Youth Choir \n6:30 pm – Bible Study & Fellowship
URL:https://firstprotestant.com/event/the-stream-wednesday-youth-2/2028-11-29/
CATEGORIES:Youth
END:VEVENT
BEGIN:VEVENT
DTSTART;TZID=America/Chicago:20281203T093000
DTEND;TZID=America/Chicago:20281203T103000
DTSTAMP:20260422T171639
CREATED:20250917T203836Z
LAST-MODIFIED:20251216T204802Z
UID:10003062-1859448600-1859452200@firstprotestant.com
SUMMARY:Youth Fellowship - Sundays
DESCRIPTION:Join us in the Bormann Room on Sunday mornings at 9:30am to worship\, study and have fellowship. Led by our youth team. If you have any questions about our program\, email: youth@firstprotestant.com.
URL:https://firstprotestant.com/event/merge-youth-sunday-school-2020-09-20-2-2/2028-12-03/
CATEGORIES:Youth
END:VEVENT
BEGIN:VEVENT
DTSTART;TZID=America/Chicago:20281204T160000
DTEND;TZID=America/Chicago:20281204T180000
DTSTAMP:20260422T171639
CREATED:20241219T021358Z
LAST-MODIFIED:20250717T143913Z
UID:10004168-1859558400-1859565600@firstprotestant.com
SUMMARY:Pickleball
DESCRIPTION:Mondays @ 4:00 pm \nIn Schumann Hall \nCall Celeste Salge for information \n830-620-8515
URL:https://firstprotestant.com/event/pickleball/2028-12-04/
CATEGORIES:Youth,Adults
ATTACH;FMTTYPE=image/png:https://firstprotestant.com/wp-content/uploads/2023/08/pickleball.png
END:VEVENT
BEGIN:VEVENT
DTSTART;TZID=America/Chicago:20281206T170000
DTEND;TZID=America/Chicago:20281206T193000
DTSTAMP:20260422T171639
CREATED:20241219T021114Z
LAST-MODIFIED:20251216T204537Z
UID:10006377-1859734800-1859743800@firstprotestant.com
SUMMARY:Youth Fellowship - Wednesday
DESCRIPTION:5:00 pm – Dinner \n5:30 PM – Music options (Traditional & Contemporary) \n6:00 pm – Youth Choir \n6:30 pm – Bible Study & Fellowship
URL:https://firstprotestant.com/event/the-stream-wednesday-youth-2/2028-12-06/
CATEGORIES:Youth
END:VEVENT
BEGIN:VEVENT
DTSTART;TZID=America/Chicago:20281210T093000
DTEND;TZID=America/Chicago:20281210T103000
DTSTAMP:20260422T171639
CREATED:20250917T203836Z
LAST-MODIFIED:20251216T204802Z
UID:10003063-1860053400-1860057000@firstprotestant.com
SUMMARY:Youth Fellowship - Sundays
DESCRIPTION:Join us in the Bormann Room on Sunday mornings at 9:30am to worship\, study and have fellowship. Led by our youth team. If you have any questions about our program\, email: youth@firstprotestant.com.
URL:https://firstprotestant.com/event/merge-youth-sunday-school-2020-09-20-2-2/2028-12-10/
CATEGORIES:Youth
END:VEVENT
BEGIN:VEVENT
DTSTART;TZID=America/Chicago:20281211T160000
DTEND;TZID=America/Chicago:20281211T180000
DTSTAMP:20260422T171639
CREATED:20241219T021358Z
LAST-MODIFIED:20250717T143913Z
UID:10004169-1860163200-1860170400@firstprotestant.com
SUMMARY:Pickleball
DESCRIPTION:Mondays @ 4:00 pm \nIn Schumann Hall \nCall Celeste Salge for information \n830-620-8515
URL:https://firstprotestant.com/event/pickleball/2028-12-11/
CATEGORIES:Youth,Adults
ATTACH;FMTTYPE=image/png:https://firstprotestant.com/wp-content/uploads/2023/08/pickleball.png
END:VEVENT
BEGIN:VEVENT
DTSTART;TZID=America/Chicago:20281213T170000
DTEND;TZID=America/Chicago:20281213T193000
DTSTAMP:20260422T171639
CREATED:20241219T021114Z
LAST-MODIFIED:20251216T204537Z
UID:10006378-1860339600-1860348600@firstprotestant.com
SUMMARY:Youth Fellowship - Wednesday
DESCRIPTION:5:00 pm – Dinner \n5:30 PM – Music options (Traditional & Contemporary) \n6:00 pm – Youth Choir \n6:30 pm – Bible Study & Fellowship
URL:https://firstprotestant.com/event/the-stream-wednesday-youth-2/2028-12-13/
CATEGORIES:Youth
END:VEVENT
BEGIN:VEVENT
DTSTART;TZID=America/Chicago:20281217T093000
DTEND;TZID=America/Chicago:20281217T103000
DTSTAMP:20260422T171639
CREATED:20250917T203836Z
LAST-MODIFIED:20251216T204802Z
UID:10003064-1860658200-1860661800@firstprotestant.com
SUMMARY:Youth Fellowship - Sundays
DESCRIPTION:Join us in the Bormann Room on Sunday mornings at 9:30am to worship\, study and have fellowship. Led by our youth team. If you have any questions about our program\, email: youth@firstprotestant.com.
URL:https://firstprotestant.com/event/merge-youth-sunday-school-2020-09-20-2-2/2028-12-17/
CATEGORIES:Youth
END:VEVENT
BEGIN:VEVENT
DTSTART;TZID=America/Chicago:20281218T160000
DTEND;TZID=America/Chicago:20281218T180000
DTSTAMP:20260422T171639
CREATED:20241219T021358Z
LAST-MODIFIED:20250717T143913Z
UID:10004170-1860768000-1860775200@firstprotestant.com
SUMMARY:Pickleball
DESCRIPTION:Mondays @ 4:00 pm \nIn Schumann Hall \nCall Celeste Salge for information \n830-620-8515
URL:https://firstprotestant.com/event/pickleball/2028-12-18/
CATEGORIES:Youth,Adults
ATTACH;FMTTYPE=image/png:https://firstprotestant.com/wp-content/uploads/2023/08/pickleball.png
END:VEVENT
BEGIN:VEVENT
DTSTART;TZID=America/Chicago:20281220T170000
DTEND;TZID=America/Chicago:20281220T193000
DTSTAMP:20260422T171639
CREATED:20241219T021114Z
LAST-MODIFIED:20251216T204537Z
UID:10006379-1860944400-1860953400@firstprotestant.com
SUMMARY:Youth Fellowship - Wednesday
DESCRIPTION:5:00 pm – Dinner \n5:30 PM – Music options (Traditional & Contemporary) \n6:00 pm – Youth Choir \n6:30 pm – Bible Study & Fellowship
URL:https://firstprotestant.com/event/the-stream-wednesday-youth-2/2028-12-20/
CATEGORIES:Youth
END:VEVENT
BEGIN:VEVENT
DTSTART;TZID=America/Chicago:20281224T093000
DTEND;TZID=America/Chicago:20281224T103000
DTSTAMP:20260422T171639
CREATED:20250917T203836Z
LAST-MODIFIED:20251216T204802Z
UID:10003065-1861263000-1861266600@firstprotestant.com
SUMMARY:Youth Fellowship - Sundays
DESCRIPTION:Join us in the Bormann Room on Sunday mornings at 9:30am to worship\, study and have fellowship. Led by our youth team. If you have any questions about our program\, email: youth@firstprotestant.com.
URL:https://firstprotestant.com/event/merge-youth-sunday-school-2020-09-20-2-2/2028-12-24/
CATEGORIES:Youth
END:VEVENT
BEGIN:VEVENT
DTSTART;TZID=America/Chicago:20281225T160000
DTEND;TZID=America/Chicago:20281225T180000
DTSTAMP:20260422T171639
CREATED:20241219T021358Z
LAST-MODIFIED:20250717T143913Z
UID:10004171-1861372800-1861380000@firstprotestant.com
SUMMARY:Pickleball
DESCRIPTION:Mondays @ 4:00 pm \nIn Schumann Hall \nCall Celeste Salge for information \n830-620-8515
URL:https://firstprotestant.com/event/pickleball/2028-12-25/
CATEGORIES:Youth,Adults
ATTACH;FMTTYPE=image/png:https://firstprotestant.com/wp-content/uploads/2023/08/pickleball.png
END:VEVENT
BEGIN:VEVENT
DTSTART;TZID=America/Chicago:20281227T170000
DTEND;TZID=America/Chicago:20281227T193000
DTSTAMP:20260422T171639
CREATED:20241219T021114Z
LAST-MODIFIED:20251216T204537Z
UID:10006380-1861549200-1861558200@firstprotestant.com
SUMMARY:Youth Fellowship - Wednesday
DESCRIPTION:5:00 pm – Dinner \n5:30 PM – Music options (Traditional & Contemporary) \n6:00 pm – Youth Choir \n6:30 pm – Bible Study & Fellowship
URL:https://firstprotestant.com/event/the-stream-wednesday-youth-2/2028-12-27/
CATEGORIES:Youth
END:VEVENT
END:VCALENDAR