BEGIN:VCALENDAR
VERSION:2.0
PRODID:-//First Protestant Church Of New Braunfels - ECPv6.15.20//NONSGML v1.0//EN
CALSCALE:GREGORIAN
METHOD:PUBLISH
X-WR-CALNAME:First Protestant Church Of New Braunfels
X-ORIGINAL-URL:https://firstprotestant.com
X-WR-CALDESC:Events for First Protestant Church Of New Braunfels
REFRESH-INTERVAL;VALUE=DURATION:PT1H
X-Robots-Tag:noindex
X-PUBLISHED-TTL:PT1H
BEGIN:VTIMEZONE
TZID:America/Chicago
BEGIN:DAYLIGHT
TZOFFSETFROM:-0600
TZOFFSETTO:-0500
TZNAME:CDT
DTSTART:20240310T080000
END:DAYLIGHT
BEGIN:STANDARD
TZOFFSETFROM:-0500
TZOFFSETTO:-0600
TZNAME:CST
DTSTART:20241103T070000
END:STANDARD
BEGIN:DAYLIGHT
TZOFFSETFROM:-0600
TZOFFSETTO:-0500
TZNAME:CDT
DTSTART:20250309T080000
END:DAYLIGHT
BEGIN:STANDARD
TZOFFSETFROM:-0500
TZOFFSETTO:-0600
TZNAME:CST
DTSTART:20251102T070000
END:STANDARD
BEGIN:DAYLIGHT
TZOFFSETFROM:-0600
TZOFFSETTO:-0500
TZNAME:CDT
DTSTART:20260308T080000
END:DAYLIGHT
BEGIN:STANDARD
TZOFFSETFROM:-0500
TZOFFSETTO:-0600
TZNAME:CST
DTSTART:20261101T070000
END:STANDARD
BEGIN:DAYLIGHT
TZOFFSETFROM:-0600
TZOFFSETTO:-0500
TZNAME:CDT
DTSTART:20270314T080000
END:DAYLIGHT
BEGIN:STANDARD
TZOFFSETFROM:-0500
TZOFFSETTO:-0600
TZNAME:CST
DTSTART:20271107T070000
END:STANDARD
END:VTIMEZONE
BEGIN:VEVENT
DTSTART;TZID=America/Chicago:20260302T160000
DTEND;TZID=America/Chicago:20260302T180000
DTSTAMP:20260422T054112
CREATED:20241219T021358Z
LAST-MODIFIED:20250717T143913Z
UID:10004024-1772467200-1772474400@firstprotestant.com
SUMMARY:Pickleball
DESCRIPTION:Mondays @ 4:00 pm \nIn Schumann Hall \nCall Celeste Salge for information \n830-620-8515
URL:https://firstprotestant.com/event/pickleball/2026-03-02/
CATEGORIES:Youth,Adults
ATTACH;FMTTYPE=image/png:https://firstprotestant.com/wp-content/uploads/2023/08/pickleball.png
END:VEVENT
BEGIN:VEVENT
DTSTART;TZID=America/Chicago:20260301T093000
DTEND;TZID=America/Chicago:20260301T103000
DTSTAMP:20260422T054112
CREATED:20250917T203836Z
LAST-MODIFIED:20251216T204802Z
UID:10002570-1772357400-1772361000@firstprotestant.com
SUMMARY:Youth Fellowship - Sundays
DESCRIPTION:Join us in the Bormann Room on Sunday mornings at 9:30am to worship\, study and have fellowship. Led by our youth team. If you have any questions about our program\, email: youth@firstprotestant.com.
URL:https://firstprotestant.com/event/merge-youth-sunday-school-2020-09-20-2-2/2026-03-01/
CATEGORIES:Youth
END:VEVENT
BEGIN:VEVENT
DTSTART;TZID=America/Chicago:20260225T170000
DTEND;TZID=America/Chicago:20260225T193000
DTSTAMP:20260422T054112
CREATED:20241219T021114Z
LAST-MODIFIED:20251216T204537Z
UID:10006232-1772038800-1772047800@firstprotestant.com
SUMMARY:Youth Fellowship - Wednesday
DESCRIPTION:5:00 pm – Dinner \n5:30 PM – Music options (Traditional & Contemporary) \n6:00 pm – Youth Choir \n6:30 pm – Bible Study & Fellowship
URL:https://firstprotestant.com/event/the-stream-wednesday-youth-2/2026-02-25/
CATEGORIES:Youth
END:VEVENT
BEGIN:VEVENT
DTSTART;TZID=America/Chicago:20260223T160000
DTEND;TZID=America/Chicago:20260223T180000
DTSTAMP:20260422T054112
CREATED:20241219T021358Z
LAST-MODIFIED:20250717T143913Z
UID:10004023-1771862400-1771869600@firstprotestant.com
SUMMARY:Pickleball
DESCRIPTION:Mondays @ 4:00 pm \nIn Schumann Hall \nCall Celeste Salge for information \n830-620-8515
URL:https://firstprotestant.com/event/pickleball/2026-02-23/
CATEGORIES:Youth,Adults
ATTACH;FMTTYPE=image/png:https://firstprotestant.com/wp-content/uploads/2023/08/pickleball.png
END:VEVENT
BEGIN:VEVENT
DTSTART;TZID=America/Chicago:20260222T093000
DTEND;TZID=America/Chicago:20260222T103000
DTSTAMP:20260422T054112
CREATED:20250917T203836Z
LAST-MODIFIED:20251216T204802Z
UID:10002569-1771752600-1771756200@firstprotestant.com
SUMMARY:Youth Fellowship - Sundays
DESCRIPTION:Join us in the Bormann Room on Sunday mornings at 9:30am to worship\, study and have fellowship. Led by our youth team. If you have any questions about our program\, email: youth@firstprotestant.com.
URL:https://firstprotestant.com/event/merge-youth-sunday-school-2020-09-20-2-2/2026-02-22/
CATEGORIES:Youth
END:VEVENT
BEGIN:VEVENT
DTSTART;TZID=America/Chicago:20260218T170000
DTEND;TZID=America/Chicago:20260218T193000
DTSTAMP:20260422T054112
CREATED:20241219T021114Z
LAST-MODIFIED:20251216T204537Z
UID:10006231-1771434000-1771443000@firstprotestant.com
SUMMARY:Youth Fellowship - Wednesday
DESCRIPTION:5:00 pm – Dinner \n5:30 PM – Music options (Traditional & Contemporary) \n6:00 pm – Youth Choir \n6:30 pm – Bible Study & Fellowship
URL:https://firstprotestant.com/event/the-stream-wednesday-youth-2/2026-02-18/
CATEGORIES:Youth
END:VEVENT
BEGIN:VEVENT
DTSTART;TZID=America/Chicago:20260216T160000
DTEND;TZID=America/Chicago:20260216T180000
DTSTAMP:20260422T054112
CREATED:20241219T021358Z
LAST-MODIFIED:20250717T143913Z
UID:10004022-1771257600-1771264800@firstprotestant.com
SUMMARY:Pickleball
DESCRIPTION:Mondays @ 4:00 pm \nIn Schumann Hall \nCall Celeste Salge for information \n830-620-8515
URL:https://firstprotestant.com/event/pickleball/2026-02-16/
CATEGORIES:Youth,Adults
ATTACH;FMTTYPE=image/png:https://firstprotestant.com/wp-content/uploads/2023/08/pickleball.png
END:VEVENT
BEGIN:VEVENT
DTSTART;TZID=America/Chicago:20260215T093000
DTEND;TZID=America/Chicago:20260215T103000
DTSTAMP:20260422T054112
CREATED:20250917T203836Z
LAST-MODIFIED:20251216T204802Z
UID:10002568-1771147800-1771151400@firstprotestant.com
SUMMARY:Youth Fellowship - Sundays
DESCRIPTION:Join us in the Bormann Room on Sunday mornings at 9:30am to worship\, study and have fellowship. Led by our youth team. If you have any questions about our program\, email: youth@firstprotestant.com.
URL:https://firstprotestant.com/event/merge-youth-sunday-school-2020-09-20-2-2/2026-02-15/
CATEGORIES:Youth
END:VEVENT
BEGIN:VEVENT
DTSTART;TZID=America/Chicago:20260211T170000
DTEND;TZID=America/Chicago:20260211T193000
DTSTAMP:20260422T054112
CREATED:20241219T021114Z
LAST-MODIFIED:20251216T204537Z
UID:10006230-1770829200-1770838200@firstprotestant.com
SUMMARY:Youth Fellowship - Wednesday
DESCRIPTION:5:00 pm – Dinner \n5:30 PM – Music options (Traditional & Contemporary) \n6:00 pm – Youth Choir \n6:30 pm – Bible Study & Fellowship
URL:https://firstprotestant.com/event/the-stream-wednesday-youth-2/2026-02-11/
CATEGORIES:Youth
END:VEVENT
BEGIN:VEVENT
DTSTART;TZID=America/Chicago:20260209T160000
DTEND;TZID=America/Chicago:20260209T180000
DTSTAMP:20260422T054112
CREATED:20241219T021358Z
LAST-MODIFIED:20250717T143913Z
UID:10004021-1770652800-1770660000@firstprotestant.com
SUMMARY:Pickleball
DESCRIPTION:Mondays @ 4:00 pm \nIn Schumann Hall \nCall Celeste Salge for information \n830-620-8515
URL:https://firstprotestant.com/event/pickleball/2026-02-09/
CATEGORIES:Youth,Adults
ATTACH;FMTTYPE=image/png:https://firstprotestant.com/wp-content/uploads/2023/08/pickleball.png
END:VEVENT
BEGIN:VEVENT
DTSTART;TZID=America/Chicago:20260208T093000
DTEND;TZID=America/Chicago:20260208T103000
DTSTAMP:20260422T054112
CREATED:20250917T203836Z
LAST-MODIFIED:20251216T204802Z
UID:10002567-1770543000-1770546600@firstprotestant.com
SUMMARY:Youth Fellowship - Sundays
DESCRIPTION:Join us in the Bormann Room on Sunday mornings at 9:30am to worship\, study and have fellowship. Led by our youth team. If you have any questions about our program\, email: youth@firstprotestant.com.
URL:https://firstprotestant.com/event/merge-youth-sunday-school-2020-09-20-2-2/2026-02-08/
CATEGORIES:Youth
END:VEVENT
BEGIN:VEVENT
DTSTART;TZID=America/Chicago:20260204T170000
DTEND;TZID=America/Chicago:20260204T193000
DTSTAMP:20260422T054112
CREATED:20241219T021114Z
LAST-MODIFIED:20251216T204537Z
UID:10006229-1770224400-1770233400@firstprotestant.com
SUMMARY:Youth Fellowship - Wednesday
DESCRIPTION:5:00 pm – Dinner \n5:30 PM – Music options (Traditional & Contemporary) \n6:00 pm – Youth Choir \n6:30 pm – Bible Study & Fellowship
URL:https://firstprotestant.com/event/the-stream-wednesday-youth-2/2026-02-04/
CATEGORIES:Youth
END:VEVENT
BEGIN:VEVENT
DTSTART;TZID=America/Chicago:20260202T160000
DTEND;TZID=America/Chicago:20260202T180000
DTSTAMP:20260422T054112
CREATED:20241219T021358Z
LAST-MODIFIED:20250717T143913Z
UID:10004020-1770048000-1770055200@firstprotestant.com
SUMMARY:Pickleball
DESCRIPTION:Mondays @ 4:00 pm \nIn Schumann Hall \nCall Celeste Salge for information \n830-620-8515
URL:https://firstprotestant.com/event/pickleball/2026-02-02/
CATEGORIES:Youth,Adults
ATTACH;FMTTYPE=image/png:https://firstprotestant.com/wp-content/uploads/2023/08/pickleball.png
END:VEVENT
BEGIN:VEVENT
DTSTART;TZID=America/Chicago:20260201T093000
DTEND;TZID=America/Chicago:20260201T103000
DTSTAMP:20260422T054112
CREATED:20250917T203836Z
LAST-MODIFIED:20251216T204802Z
UID:10002566-1769938200-1769941800@firstprotestant.com
SUMMARY:Youth Fellowship - Sundays
DESCRIPTION:Join us in the Bormann Room on Sunday mornings at 9:30am to worship\, study and have fellowship. Led by our youth team. If you have any questions about our program\, email: youth@firstprotestant.com.
URL:https://firstprotestant.com/event/merge-youth-sunday-school-2020-09-20-2-2/2026-02-01/
CATEGORIES:Youth
END:VEVENT
BEGIN:VEVENT
DTSTART;TZID=America/Chicago:20260128T170000
DTEND;TZID=America/Chicago:20260128T193000
DTSTAMP:20260422T054112
CREATED:20241219T021114Z
LAST-MODIFIED:20251216T204537Z
UID:10006228-1769619600-1769628600@firstprotestant.com
SUMMARY:Youth Fellowship - Wednesday
DESCRIPTION:5:00 pm – Dinner \n5:30 PM – Music options (Traditional & Contemporary) \n6:00 pm – Youth Choir \n6:30 pm – Bible Study & Fellowship
URL:https://firstprotestant.com/event/the-stream-wednesday-youth-2/2026-01-28/
CATEGORIES:Youth
END:VEVENT
BEGIN:VEVENT
DTSTART;TZID=America/Chicago:20260126T160000
DTEND;TZID=America/Chicago:20260126T180000
DTSTAMP:20260422T054112
CREATED:20241219T021358Z
LAST-MODIFIED:20250717T143913Z
UID:10004019-1769443200-1769450400@firstprotestant.com
SUMMARY:Pickleball
DESCRIPTION:Mondays @ 4:00 pm \nIn Schumann Hall \nCall Celeste Salge for information \n830-620-8515
URL:https://firstprotestant.com/event/pickleball/2026-01-26/
CATEGORIES:Youth,Adults
ATTACH;FMTTYPE=image/png:https://firstprotestant.com/wp-content/uploads/2023/08/pickleball.png
END:VEVENT
BEGIN:VEVENT
DTSTART;TZID=America/Chicago:20260125T093000
DTEND;TZID=America/Chicago:20260125T103000
DTSTAMP:20260422T054112
CREATED:20250917T203836Z
LAST-MODIFIED:20251216T204802Z
UID:10002565-1769333400-1769337000@firstprotestant.com
SUMMARY:Youth Fellowship - Sundays
DESCRIPTION:Join us in the Bormann Room on Sunday mornings at 9:30am to worship\, study and have fellowship. Led by our youth team. If you have any questions about our program\, email: youth@firstprotestant.com.
URL:https://firstprotestant.com/event/merge-youth-sunday-school-2020-09-20-2-2/2026-01-25/
CATEGORIES:Youth
END:VEVENT
BEGIN:VEVENT
DTSTART;TZID=America/Chicago:20260121T170000
DTEND;TZID=America/Chicago:20260121T193000
DTSTAMP:20260422T054112
CREATED:20241219T021114Z
LAST-MODIFIED:20251216T204537Z
UID:10006227-1769014800-1769023800@firstprotestant.com
SUMMARY:Youth Fellowship - Wednesday
DESCRIPTION:5:00 pm – Dinner \n5:30 PM – Music options (Traditional & Contemporary) \n6:00 pm – Youth Choir \n6:30 pm – Bible Study & Fellowship
URL:https://firstprotestant.com/event/the-stream-wednesday-youth-2/2026-01-21/
CATEGORIES:Youth
END:VEVENT
BEGIN:VEVENT
DTSTART;TZID=America/Chicago:20260119T160000
DTEND;TZID=America/Chicago:20260119T180000
DTSTAMP:20260422T054112
CREATED:20241219T021358Z
LAST-MODIFIED:20250717T143913Z
UID:10004018-1768838400-1768845600@firstprotestant.com
SUMMARY:Pickleball
DESCRIPTION:Mondays @ 4:00 pm \nIn Schumann Hall \nCall Celeste Salge for information \n830-620-8515
URL:https://firstprotestant.com/event/pickleball/2026-01-19/
CATEGORIES:Youth,Adults
ATTACH;FMTTYPE=image/png:https://firstprotestant.com/wp-content/uploads/2023/08/pickleball.png
END:VEVENT
BEGIN:VEVENT
DTSTART;TZID=America/Chicago:20260118T093000
DTEND;TZID=America/Chicago:20260118T103000
DTSTAMP:20260422T054112
CREATED:20250917T203836Z
LAST-MODIFIED:20251216T204802Z
UID:10002564-1768728600-1768732200@firstprotestant.com
SUMMARY:Youth Fellowship - Sundays
DESCRIPTION:Join us in the Bormann Room on Sunday mornings at 9:30am to worship\, study and have fellowship. Led by our youth team. If you have any questions about our program\, email: youth@firstprotestant.com.
URL:https://firstprotestant.com/event/merge-youth-sunday-school-2020-09-20-2-2/2026-01-18/
CATEGORIES:Youth
END:VEVENT
BEGIN:VEVENT
DTSTART;TZID=America/Chicago:20260114T170000
DTEND;TZID=America/Chicago:20260114T193000
DTSTAMP:20260422T054112
CREATED:20241219T021114Z
LAST-MODIFIED:20251216T204537Z
UID:10006226-1768410000-1768419000@firstprotestant.com
SUMMARY:Youth Fellowship - Wednesday
DESCRIPTION:5:00 pm – Dinner \n5:30 PM – Music options (Traditional & Contemporary) \n6:00 pm – Youth Choir \n6:30 pm – Bible Study & Fellowship
URL:https://firstprotestant.com/event/the-stream-wednesday-youth-2/2026-01-14/
CATEGORIES:Youth
END:VEVENT
BEGIN:VEVENT
DTSTART;TZID=America/Chicago:20260112T160000
DTEND;TZID=America/Chicago:20260112T180000
DTSTAMP:20260422T054112
CREATED:20241219T021358Z
LAST-MODIFIED:20250717T143913Z
UID:10004017-1768233600-1768240800@firstprotestant.com
SUMMARY:Pickleball
DESCRIPTION:Mondays @ 4:00 pm \nIn Schumann Hall \nCall Celeste Salge for information \n830-620-8515
URL:https://firstprotestant.com/event/pickleball/2026-01-12/
CATEGORIES:Youth,Adults
ATTACH;FMTTYPE=image/png:https://firstprotestant.com/wp-content/uploads/2023/08/pickleball.png
END:VEVENT
BEGIN:VEVENT
DTSTART;TZID=America/Chicago:20260111T093000
DTEND;TZID=America/Chicago:20260111T103000
DTSTAMP:20260422T054112
CREATED:20250917T203836Z
LAST-MODIFIED:20251216T204802Z
UID:10002563-1768123800-1768127400@firstprotestant.com
SUMMARY:Youth Fellowship - Sundays
DESCRIPTION:Join us in the Bormann Room on Sunday mornings at 9:30am to worship\, study and have fellowship. Led by our youth team. If you have any questions about our program\, email: youth@firstprotestant.com.
URL:https://firstprotestant.com/event/merge-youth-sunday-school-2020-09-20-2-2/2026-01-11/
CATEGORIES:Youth
END:VEVENT
BEGIN:VEVENT
DTSTART;TZID=America/Chicago:20260107T170000
DTEND;TZID=America/Chicago:20260107T193000
DTSTAMP:20260422T054112
CREATED:20241219T021114Z
LAST-MODIFIED:20251216T204537Z
UID:10006225-1767805200-1767814200@firstprotestant.com
SUMMARY:Youth Fellowship - Wednesday
DESCRIPTION:5:00 pm – Dinner \n5:30 PM – Music options (Traditional & Contemporary) \n6:00 pm – Youth Choir \n6:30 pm – Bible Study & Fellowship
URL:https://firstprotestant.com/event/the-stream-wednesday-youth-2/2026-01-07/
CATEGORIES:Youth
END:VEVENT
BEGIN:VEVENT
DTSTART;TZID=America/Chicago:20260105T160000
DTEND;TZID=America/Chicago:20260105T180000
DTSTAMP:20260422T054112
CREATED:20241219T021358Z
LAST-MODIFIED:20250717T143913Z
UID:10004016-1767628800-1767636000@firstprotestant.com
SUMMARY:Pickleball
DESCRIPTION:Mondays @ 4:00 pm \nIn Schumann Hall \nCall Celeste Salge for information \n830-620-8515
URL:https://firstprotestant.com/event/pickleball/2026-01-05/
CATEGORIES:Youth,Adults
ATTACH;FMTTYPE=image/png:https://firstprotestant.com/wp-content/uploads/2023/08/pickleball.png
END:VEVENT
BEGIN:VEVENT
DTSTART;TZID=America/Chicago:20260104T093000
DTEND;TZID=America/Chicago:20260104T103000
DTSTAMP:20260422T054112
CREATED:20250917T203836Z
LAST-MODIFIED:20251216T204802Z
UID:10002562-1767519000-1767522600@firstprotestant.com
SUMMARY:Youth Fellowship - Sundays
DESCRIPTION:Join us in the Bormann Room on Sunday mornings at 9:30am to worship\, study and have fellowship. Led by our youth team. If you have any questions about our program\, email: youth@firstprotestant.com.
URL:https://firstprotestant.com/event/merge-youth-sunday-school-2020-09-20-2-2/2026-01-04/
CATEGORIES:Youth
END:VEVENT
BEGIN:VEVENT
DTSTART;TZID=America/Chicago:20251231T170000
DTEND;TZID=America/Chicago:20251231T193000
DTSTAMP:20260422T054112
CREATED:20241219T021114Z
LAST-MODIFIED:20251216T204537Z
UID:10006224-1767200400-1767209400@firstprotestant.com
SUMMARY:Youth Fellowship - Wednesday
DESCRIPTION:5:00 pm – Dinner \n5:30 PM – Music options (Traditional & Contemporary) \n6:00 pm – Youth Choir \n6:30 pm – Bible Study & Fellowship
URL:https://firstprotestant.com/event/the-stream-wednesday-youth-2/2025-12-31/
CATEGORIES:Youth
END:VEVENT
BEGIN:VEVENT
DTSTART;TZID=America/Chicago:20251229T160000
DTEND;TZID=America/Chicago:20251229T180000
DTSTAMP:20260422T054112
CREATED:20241219T021358Z
LAST-MODIFIED:20250717T143913Z
UID:10004015-1767024000-1767031200@firstprotestant.com
SUMMARY:Pickleball
DESCRIPTION:Mondays @ 4:00 pm \nIn Schumann Hall \nCall Celeste Salge for information \n830-620-8515
URL:https://firstprotestant.com/event/pickleball/2025-12-29/
CATEGORIES:Youth,Adults
ATTACH;FMTTYPE=image/png:https://firstprotestant.com/wp-content/uploads/2023/08/pickleball.png
END:VEVENT
BEGIN:VEVENT
DTSTART;TZID=America/Chicago:20251222T160000
DTEND;TZID=America/Chicago:20251222T180000
DTSTAMP:20260422T054112
CREATED:20241219T021358Z
LAST-MODIFIED:20250717T143913Z
UID:10004014-1766419200-1766426400@firstprotestant.com
SUMMARY:Pickleball
DESCRIPTION:Mondays @ 4:00 pm \nIn Schumann Hall \nCall Celeste Salge for information \n830-620-8515
URL:https://firstprotestant.com/event/pickleball/2025-12-22/
CATEGORIES:Youth,Adults
ATTACH;FMTTYPE=image/png:https://firstprotestant.com/wp-content/uploads/2023/08/pickleball.png
END:VEVENT
BEGIN:VEVENT
DTSTART;TZID=America/Chicago:20251221T093000
DTEND;TZID=America/Chicago:20251221T103000
DTSTAMP:20260422T054112
CREATED:20250917T203836Z
LAST-MODIFIED:20251216T204802Z
UID:10002560-1766309400-1766313000@firstprotestant.com
SUMMARY:Youth Fellowship - Sundays
DESCRIPTION:Join us in the Bormann Room on Sunday mornings at 9:30am to worship\, study and have fellowship. Led by our youth team. If you have any questions about our program\, email: youth@firstprotestant.com.
URL:https://firstprotestant.com/event/merge-youth-sunday-school-2020-09-20-2-2/2025-12-21/
CATEGORIES:Youth
END:VEVENT
END:VCALENDAR