BEGIN:VCALENDAR
VERSION:2.0
PRODID:-//First Protestant Church Of New Braunfels - ECPv6.15.20//NONSGML v1.0//EN
CALSCALE:GREGORIAN
METHOD:PUBLISH
X-WR-CALNAME:First Protestant Church Of New Braunfels
X-ORIGINAL-URL:https://firstprotestant.com
X-WR-CALDESC:Events for First Protestant Church Of New Braunfels
REFRESH-INTERVAL;VALUE=DURATION:PT1H
X-Robots-Tag:noindex
X-PUBLISHED-TTL:PT1H
BEGIN:VTIMEZONE
TZID:America/Chicago
BEGIN:DAYLIGHT
TZOFFSETFROM:-0600
TZOFFSETTO:-0500
TZNAME:CDT
DTSTART:20280312T080000
END:DAYLIGHT
BEGIN:STANDARD
TZOFFSETFROM:-0500
TZOFFSETTO:-0600
TZNAME:CST
DTSTART:20281105T070000
END:STANDARD
BEGIN:DAYLIGHT
TZOFFSETFROM:-0600
TZOFFSETTO:-0500
TZNAME:CDT
DTSTART:20290311T080000
END:DAYLIGHT
BEGIN:STANDARD
TZOFFSETFROM:-0500
TZOFFSETTO:-0600
TZNAME:CST
DTSTART:20291104T070000
END:STANDARD
BEGIN:DAYLIGHT
TZOFFSETFROM:-0600
TZOFFSETTO:-0500
TZNAME:CDT
DTSTART:20300310T080000
END:DAYLIGHT
BEGIN:STANDARD
TZOFFSETFROM:-0500
TZOFFSETTO:-0600
TZNAME:CST
DTSTART:20301103T070000
END:STANDARD
END:VTIMEZONE
BEGIN:VEVENT
DTSTART;TZID=America/Chicago:20290930T093000
DTEND;TZID=America/Chicago:20290930T103000
DTSTAMP:20260424T022803
CREATED:20250917T203836Z
LAST-MODIFIED:20251216T204802Z
UID:10003105-1885455000-1885458600@firstprotestant.com
SUMMARY:Youth Fellowship - Sundays
DESCRIPTION:Join us in the Bormann Room on Sunday mornings at 9:30am to worship\, study and have fellowship. Led by our youth team. If you have any questions about our program\, email: youth@firstprotestant.com.
URL:https://firstprotestant.com/event/merge-youth-sunday-school-2020-09-20-2-2/2029-09-30/
CATEGORIES:Youth
END:VEVENT
BEGIN:VEVENT
DTSTART;TZID=America/Chicago:20291001T160000
DTEND;TZID=America/Chicago:20291001T180000
DTSTAMP:20260424T022803
CREATED:20241219T021358Z
LAST-MODIFIED:20250717T143913Z
UID:10004211-1885564800-1885572000@firstprotestant.com
SUMMARY:Pickleball
DESCRIPTION:Mondays @ 4:00 pm \nIn Schumann Hall \nCall Celeste Salge for information \n830-620-8515
URL:https://firstprotestant.com/event/pickleball/2029-10-01/
CATEGORIES:Youth,Adults
ATTACH;FMTTYPE=image/png:https://firstprotestant.com/wp-content/uploads/2023/08/pickleball.png
END:VEVENT
BEGIN:VEVENT
DTSTART;TZID=America/Chicago:20291003T170000
DTEND;TZID=America/Chicago:20291003T193000
DTSTAMP:20260424T022803
CREATED:20241219T021114Z
LAST-MODIFIED:20251216T204537Z
UID:10006420-1885741200-1885750200@firstprotestant.com
SUMMARY:Youth Fellowship - Wednesday
DESCRIPTION:5:00 pm – Dinner \n5:30 PM – Music options (Traditional & Contemporary) \n6:00 pm – Youth Choir \n6:30 pm – Bible Study & Fellowship
URL:https://firstprotestant.com/event/the-stream-wednesday-youth-2/2029-10-03/
CATEGORIES:Youth
END:VEVENT
BEGIN:VEVENT
DTSTART;TZID=America/Chicago:20291007T093000
DTEND;TZID=America/Chicago:20291007T103000
DTSTAMP:20260424T022803
CREATED:20250917T203836Z
LAST-MODIFIED:20251216T204802Z
UID:10003106-1886059800-1886063400@firstprotestant.com
SUMMARY:Youth Fellowship - Sundays
DESCRIPTION:Join us in the Bormann Room on Sunday mornings at 9:30am to worship\, study and have fellowship. Led by our youth team. If you have any questions about our program\, email: youth@firstprotestant.com.
URL:https://firstprotestant.com/event/merge-youth-sunday-school-2020-09-20-2-2/2029-10-07/
CATEGORIES:Youth
END:VEVENT
BEGIN:VEVENT
DTSTART;TZID=America/Chicago:20291008T160000
DTEND;TZID=America/Chicago:20291008T180000
DTSTAMP:20260424T022803
CREATED:20241219T021358Z
LAST-MODIFIED:20250717T143913Z
UID:10004212-1886169600-1886176800@firstprotestant.com
SUMMARY:Pickleball
DESCRIPTION:Mondays @ 4:00 pm \nIn Schumann Hall \nCall Celeste Salge for information \n830-620-8515
URL:https://firstprotestant.com/event/pickleball/2029-10-08/
CATEGORIES:Youth,Adults
ATTACH;FMTTYPE=image/png:https://firstprotestant.com/wp-content/uploads/2023/08/pickleball.png
END:VEVENT
BEGIN:VEVENT
DTSTART;TZID=America/Chicago:20291010T170000
DTEND;TZID=America/Chicago:20291010T193000
DTSTAMP:20260424T022803
CREATED:20241219T021114Z
LAST-MODIFIED:20251216T204537Z
UID:10006421-1886346000-1886355000@firstprotestant.com
SUMMARY:Youth Fellowship - Wednesday
DESCRIPTION:5:00 pm – Dinner \n5:30 PM – Music options (Traditional & Contemporary) \n6:00 pm – Youth Choir \n6:30 pm – Bible Study & Fellowship
URL:https://firstprotestant.com/event/the-stream-wednesday-youth-2/2029-10-10/
CATEGORIES:Youth
END:VEVENT
BEGIN:VEVENT
DTSTART;TZID=America/Chicago:20291014T093000
DTEND;TZID=America/Chicago:20291014T103000
DTSTAMP:20260424T022803
CREATED:20250917T203836Z
LAST-MODIFIED:20251216T204802Z
UID:10003107-1886664600-1886668200@firstprotestant.com
SUMMARY:Youth Fellowship - Sundays
DESCRIPTION:Join us in the Bormann Room on Sunday mornings at 9:30am to worship\, study and have fellowship. Led by our youth team. If you have any questions about our program\, email: youth@firstprotestant.com.
URL:https://firstprotestant.com/event/merge-youth-sunday-school-2020-09-20-2-2/2029-10-14/
CATEGORIES:Youth
END:VEVENT
BEGIN:VEVENT
DTSTART;TZID=America/Chicago:20291015T160000
DTEND;TZID=America/Chicago:20291015T180000
DTSTAMP:20260424T022803
CREATED:20241219T021358Z
LAST-MODIFIED:20250717T143913Z
UID:10004213-1886774400-1886781600@firstprotestant.com
SUMMARY:Pickleball
DESCRIPTION:Mondays @ 4:00 pm \nIn Schumann Hall \nCall Celeste Salge for information \n830-620-8515
URL:https://firstprotestant.com/event/pickleball/2029-10-15/
CATEGORIES:Youth,Adults
ATTACH;FMTTYPE=image/png:https://firstprotestant.com/wp-content/uploads/2023/08/pickleball.png
END:VEVENT
BEGIN:VEVENT
DTSTART;TZID=America/Chicago:20291017T170000
DTEND;TZID=America/Chicago:20291017T193000
DTSTAMP:20260424T022803
CREATED:20241219T021114Z
LAST-MODIFIED:20251216T204537Z
UID:10006422-1886950800-1886959800@firstprotestant.com
SUMMARY:Youth Fellowship - Wednesday
DESCRIPTION:5:00 pm – Dinner \n5:30 PM – Music options (Traditional & Contemporary) \n6:00 pm – Youth Choir \n6:30 pm – Bible Study & Fellowship
URL:https://firstprotestant.com/event/the-stream-wednesday-youth-2/2029-10-17/
CATEGORIES:Youth
END:VEVENT
BEGIN:VEVENT
DTSTART;TZID=America/Chicago:20291021T093000
DTEND;TZID=America/Chicago:20291021T103000
DTSTAMP:20260424T022803
CREATED:20250917T203836Z
LAST-MODIFIED:20251216T204802Z
UID:10003108-1887269400-1887273000@firstprotestant.com
SUMMARY:Youth Fellowship - Sundays
DESCRIPTION:Join us in the Bormann Room on Sunday mornings at 9:30am to worship\, study and have fellowship. Led by our youth team. If you have any questions about our program\, email: youth@firstprotestant.com.
URL:https://firstprotestant.com/event/merge-youth-sunday-school-2020-09-20-2-2/2029-10-21/
CATEGORIES:Youth
END:VEVENT
BEGIN:VEVENT
DTSTART;TZID=America/Chicago:20291022T160000
DTEND;TZID=America/Chicago:20291022T180000
DTSTAMP:20260424T022803
CREATED:20241219T021358Z
LAST-MODIFIED:20250717T143913Z
UID:10004214-1887379200-1887386400@firstprotestant.com
SUMMARY:Pickleball
DESCRIPTION:Mondays @ 4:00 pm \nIn Schumann Hall \nCall Celeste Salge for information \n830-620-8515
URL:https://firstprotestant.com/event/pickleball/2029-10-22/
CATEGORIES:Youth,Adults
ATTACH;FMTTYPE=image/png:https://firstprotestant.com/wp-content/uploads/2023/08/pickleball.png
END:VEVENT
BEGIN:VEVENT
DTSTART;TZID=America/Chicago:20291024T170000
DTEND;TZID=America/Chicago:20291024T193000
DTSTAMP:20260424T022803
CREATED:20241219T021114Z
LAST-MODIFIED:20251216T204537Z
UID:10006423-1887555600-1887564600@firstprotestant.com
SUMMARY:Youth Fellowship - Wednesday
DESCRIPTION:5:00 pm – Dinner \n5:30 PM – Music options (Traditional & Contemporary) \n6:00 pm – Youth Choir \n6:30 pm – Bible Study & Fellowship
URL:https://firstprotestant.com/event/the-stream-wednesday-youth-2/2029-10-24/
CATEGORIES:Youth
END:VEVENT
BEGIN:VEVENT
DTSTART;TZID=America/Chicago:20291028T093000
DTEND;TZID=America/Chicago:20291028T103000
DTSTAMP:20260424T022803
CREATED:20250917T203836Z
LAST-MODIFIED:20251216T204802Z
UID:10003109-1887874200-1887877800@firstprotestant.com
SUMMARY:Youth Fellowship - Sundays
DESCRIPTION:Join us in the Bormann Room on Sunday mornings at 9:30am to worship\, study and have fellowship. Led by our youth team. If you have any questions about our program\, email: youth@firstprotestant.com.
URL:https://firstprotestant.com/event/merge-youth-sunday-school-2020-09-20-2-2/2029-10-28/
CATEGORIES:Youth
END:VEVENT
BEGIN:VEVENT
DTSTART;TZID=America/Chicago:20291029T160000
DTEND;TZID=America/Chicago:20291029T180000
DTSTAMP:20260424T022803
CREATED:20241219T021358Z
LAST-MODIFIED:20250717T143913Z
UID:10004215-1887984000-1887991200@firstprotestant.com
SUMMARY:Pickleball
DESCRIPTION:Mondays @ 4:00 pm \nIn Schumann Hall \nCall Celeste Salge for information \n830-620-8515
URL:https://firstprotestant.com/event/pickleball/2029-10-29/
CATEGORIES:Youth,Adults
ATTACH;FMTTYPE=image/png:https://firstprotestant.com/wp-content/uploads/2023/08/pickleball.png
END:VEVENT
BEGIN:VEVENT
DTSTART;TZID=America/Chicago:20291031T170000
DTEND;TZID=America/Chicago:20291031T193000
DTSTAMP:20260424T022803
CREATED:20241219T021114Z
LAST-MODIFIED:20251216T204537Z
UID:10006424-1888160400-1888169400@firstprotestant.com
SUMMARY:Youth Fellowship - Wednesday
DESCRIPTION:5:00 pm – Dinner \n5:30 PM – Music options (Traditional & Contemporary) \n6:00 pm – Youth Choir \n6:30 pm – Bible Study & Fellowship
URL:https://firstprotestant.com/event/the-stream-wednesday-youth-2/2029-10-31/
CATEGORIES:Youth
END:VEVENT
BEGIN:VEVENT
DTSTART;TZID=America/Chicago:20291104T093000
DTEND;TZID=America/Chicago:20291104T103000
DTSTAMP:20260424T022803
CREATED:20250917T203836Z
LAST-MODIFIED:20251216T204802Z
UID:10003110-1888479000-1888482600@firstprotestant.com
SUMMARY:Youth Fellowship - Sundays
DESCRIPTION:Join us in the Bormann Room on Sunday mornings at 9:30am to worship\, study and have fellowship. Led by our youth team. If you have any questions about our program\, email: youth@firstprotestant.com.
URL:https://firstprotestant.com/event/merge-youth-sunday-school-2020-09-20-2-2/2029-11-04/
CATEGORIES:Youth
END:VEVENT
BEGIN:VEVENT
DTSTART;TZID=America/Chicago:20291105T160000
DTEND;TZID=America/Chicago:20291105T180000
DTSTAMP:20260424T022803
CREATED:20241219T021358Z
LAST-MODIFIED:20250717T143913Z
UID:10004216-1888588800-1888596000@firstprotestant.com
SUMMARY:Pickleball
DESCRIPTION:Mondays @ 4:00 pm \nIn Schumann Hall \nCall Celeste Salge for information \n830-620-8515
URL:https://firstprotestant.com/event/pickleball/2029-11-05/
CATEGORIES:Youth,Adults
ATTACH;FMTTYPE=image/png:https://firstprotestant.com/wp-content/uploads/2023/08/pickleball.png
END:VEVENT
BEGIN:VEVENT
DTSTART;TZID=America/Chicago:20291107T170000
DTEND;TZID=America/Chicago:20291107T193000
DTSTAMP:20260424T022803
CREATED:20241219T021114Z
LAST-MODIFIED:20251216T204537Z
UID:10006425-1888765200-1888774200@firstprotestant.com
SUMMARY:Youth Fellowship - Wednesday
DESCRIPTION:5:00 pm – Dinner \n5:30 PM – Music options (Traditional & Contemporary) \n6:00 pm – Youth Choir \n6:30 pm – Bible Study & Fellowship
URL:https://firstprotestant.com/event/the-stream-wednesday-youth-2/2029-11-07/
CATEGORIES:Youth
END:VEVENT
BEGIN:VEVENT
DTSTART;TZID=America/Chicago:20291111T093000
DTEND;TZID=America/Chicago:20291111T103000
DTSTAMP:20260424T022803
CREATED:20250917T203836Z
LAST-MODIFIED:20251216T204802Z
UID:10003111-1889083800-1889087400@firstprotestant.com
SUMMARY:Youth Fellowship - Sundays
DESCRIPTION:Join us in the Bormann Room on Sunday mornings at 9:30am to worship\, study and have fellowship. Led by our youth team. If you have any questions about our program\, email: youth@firstprotestant.com.
URL:https://firstprotestant.com/event/merge-youth-sunday-school-2020-09-20-2-2/2029-11-11/
CATEGORIES:Youth
END:VEVENT
BEGIN:VEVENT
DTSTART;TZID=America/Chicago:20291112T160000
DTEND;TZID=America/Chicago:20291112T180000
DTSTAMP:20260424T022803
CREATED:20241219T021358Z
LAST-MODIFIED:20250717T143913Z
UID:10004217-1889193600-1889200800@firstprotestant.com
SUMMARY:Pickleball
DESCRIPTION:Mondays @ 4:00 pm \nIn Schumann Hall \nCall Celeste Salge for information \n830-620-8515
URL:https://firstprotestant.com/event/pickleball/2029-11-12/
CATEGORIES:Youth,Adults
ATTACH;FMTTYPE=image/png:https://firstprotestant.com/wp-content/uploads/2023/08/pickleball.png
END:VEVENT
BEGIN:VEVENT
DTSTART;TZID=America/Chicago:20291114T170000
DTEND;TZID=America/Chicago:20291114T193000
DTSTAMP:20260424T022803
CREATED:20241219T021114Z
LAST-MODIFIED:20251216T204537Z
UID:10006426-1889370000-1889379000@firstprotestant.com
SUMMARY:Youth Fellowship - Wednesday
DESCRIPTION:5:00 pm – Dinner \n5:30 PM – Music options (Traditional & Contemporary) \n6:00 pm – Youth Choir \n6:30 pm – Bible Study & Fellowship
URL:https://firstprotestant.com/event/the-stream-wednesday-youth-2/2029-11-14/
CATEGORIES:Youth
END:VEVENT
BEGIN:VEVENT
DTSTART;TZID=America/Chicago:20291118T093000
DTEND;TZID=America/Chicago:20291118T103000
DTSTAMP:20260424T022803
CREATED:20250917T203836Z
LAST-MODIFIED:20251216T204802Z
UID:10003112-1889688600-1889692200@firstprotestant.com
SUMMARY:Youth Fellowship - Sundays
DESCRIPTION:Join us in the Bormann Room on Sunday mornings at 9:30am to worship\, study and have fellowship. Led by our youth team. If you have any questions about our program\, email: youth@firstprotestant.com.
URL:https://firstprotestant.com/event/merge-youth-sunday-school-2020-09-20-2-2/2029-11-18/
CATEGORIES:Youth
END:VEVENT
BEGIN:VEVENT
DTSTART;TZID=America/Chicago:20291119T160000
DTEND;TZID=America/Chicago:20291119T180000
DTSTAMP:20260424T022803
CREATED:20241219T021358Z
LAST-MODIFIED:20250717T143913Z
UID:10004218-1889798400-1889805600@firstprotestant.com
SUMMARY:Pickleball
DESCRIPTION:Mondays @ 4:00 pm \nIn Schumann Hall \nCall Celeste Salge for information \n830-620-8515
URL:https://firstprotestant.com/event/pickleball/2029-11-19/
CATEGORIES:Youth,Adults
ATTACH;FMTTYPE=image/png:https://firstprotestant.com/wp-content/uploads/2023/08/pickleball.png
END:VEVENT
BEGIN:VEVENT
DTSTART;TZID=America/Chicago:20291121T170000
DTEND;TZID=America/Chicago:20291121T193000
DTSTAMP:20260424T022803
CREATED:20241219T021114Z
LAST-MODIFIED:20251216T204537Z
UID:10006427-1889974800-1889983800@firstprotestant.com
SUMMARY:Youth Fellowship - Wednesday
DESCRIPTION:5:00 pm – Dinner \n5:30 PM – Music options (Traditional & Contemporary) \n6:00 pm – Youth Choir \n6:30 pm – Bible Study & Fellowship
URL:https://firstprotestant.com/event/the-stream-wednesday-youth-2/2029-11-21/
CATEGORIES:Youth
END:VEVENT
BEGIN:VEVENT
DTSTART;TZID=America/Chicago:20291125T093000
DTEND;TZID=America/Chicago:20291125T103000
DTSTAMP:20260424T022803
CREATED:20250917T203836Z
LAST-MODIFIED:20251216T204802Z
UID:10003113-1890293400-1890297000@firstprotestant.com
SUMMARY:Youth Fellowship - Sundays
DESCRIPTION:Join us in the Bormann Room on Sunday mornings at 9:30am to worship\, study and have fellowship. Led by our youth team. If you have any questions about our program\, email: youth@firstprotestant.com.
URL:https://firstprotestant.com/event/merge-youth-sunday-school-2020-09-20-2-2/2029-11-25/
CATEGORIES:Youth
END:VEVENT
BEGIN:VEVENT
DTSTART;TZID=America/Chicago:20291126T160000
DTEND;TZID=America/Chicago:20291126T180000
DTSTAMP:20260424T022803
CREATED:20241219T021358Z
LAST-MODIFIED:20250717T143913Z
UID:10004219-1890403200-1890410400@firstprotestant.com
SUMMARY:Pickleball
DESCRIPTION:Mondays @ 4:00 pm \nIn Schumann Hall \nCall Celeste Salge for information \n830-620-8515
URL:https://firstprotestant.com/event/pickleball/2029-11-26/
CATEGORIES:Youth,Adults
ATTACH;FMTTYPE=image/png:https://firstprotestant.com/wp-content/uploads/2023/08/pickleball.png
END:VEVENT
BEGIN:VEVENT
DTSTART;TZID=America/Chicago:20291128T170000
DTEND;TZID=America/Chicago:20291128T193000
DTSTAMP:20260424T022803
CREATED:20241219T021114Z
LAST-MODIFIED:20251216T204537Z
UID:10006428-1890579600-1890588600@firstprotestant.com
SUMMARY:Youth Fellowship - Wednesday
DESCRIPTION:5:00 pm – Dinner \n5:30 PM – Music options (Traditional & Contemporary) \n6:00 pm – Youth Choir \n6:30 pm – Bible Study & Fellowship
URL:https://firstprotestant.com/event/the-stream-wednesday-youth-2/2029-11-28/
CATEGORIES:Youth
END:VEVENT
BEGIN:VEVENT
DTSTART;TZID=America/Chicago:20291202T093000
DTEND;TZID=America/Chicago:20291202T103000
DTSTAMP:20260424T022803
CREATED:20250917T203836Z
LAST-MODIFIED:20251216T204802Z
UID:10003114-1890898200-1890901800@firstprotestant.com
SUMMARY:Youth Fellowship - Sundays
DESCRIPTION:Join us in the Bormann Room on Sunday mornings at 9:30am to worship\, study and have fellowship. Led by our youth team. If you have any questions about our program\, email: youth@firstprotestant.com.
URL:https://firstprotestant.com/event/merge-youth-sunday-school-2020-09-20-2-2/2029-12-02/
CATEGORIES:Youth
END:VEVENT
BEGIN:VEVENT
DTSTART;TZID=America/Chicago:20291203T160000
DTEND;TZID=America/Chicago:20291203T180000
DTSTAMP:20260424T022803
CREATED:20241219T021358Z
LAST-MODIFIED:20250717T143913Z
UID:10004220-1891008000-1891015200@firstprotestant.com
SUMMARY:Pickleball
DESCRIPTION:Mondays @ 4:00 pm \nIn Schumann Hall \nCall Celeste Salge for information \n830-620-8515
URL:https://firstprotestant.com/event/pickleball/2029-12-03/
CATEGORIES:Youth,Adults
ATTACH;FMTTYPE=image/png:https://firstprotestant.com/wp-content/uploads/2023/08/pickleball.png
END:VEVENT
BEGIN:VEVENT
DTSTART;TZID=America/Chicago:20291205T170000
DTEND;TZID=America/Chicago:20291205T193000
DTSTAMP:20260424T022803
CREATED:20241219T021114Z
LAST-MODIFIED:20251216T204537Z
UID:10006429-1891184400-1891193400@firstprotestant.com
SUMMARY:Youth Fellowship - Wednesday
DESCRIPTION:5:00 pm – Dinner \n5:30 PM – Music options (Traditional & Contemporary) \n6:00 pm – Youth Choir \n6:30 pm – Bible Study & Fellowship
URL:https://firstprotestant.com/event/the-stream-wednesday-youth-2/2029-12-05/
CATEGORIES:Youth
END:VEVENT
END:VCALENDAR