BEGIN:VCALENDAR
VERSION:2.0
PRODID:-//First Protestant Church Of New Braunfels - ECPv6.15.20//NONSGML v1.0//EN
CALSCALE:GREGORIAN
METHOD:PUBLISH
X-WR-CALNAME:First Protestant Church Of New Braunfels
X-ORIGINAL-URL:https://firstprotestant.com
X-WR-CALDESC:Events for First Protestant Church Of New Braunfels
REFRESH-INTERVAL;VALUE=DURATION:PT1H
X-Robots-Tag:noindex
X-PUBLISHED-TTL:PT1H
BEGIN:VTIMEZONE
TZID:America/Chicago
BEGIN:DAYLIGHT
TZOFFSETFROM:-0600
TZOFFSETTO:-0500
TZNAME:CDT
DTSTART:20270314T080000
END:DAYLIGHT
BEGIN:STANDARD
TZOFFSETFROM:-0500
TZOFFSETTO:-0600
TZNAME:CST
DTSTART:20271107T070000
END:STANDARD
BEGIN:DAYLIGHT
TZOFFSETFROM:-0600
TZOFFSETTO:-0500
TZNAME:CDT
DTSTART:20280312T080000
END:DAYLIGHT
BEGIN:STANDARD
TZOFFSETFROM:-0500
TZOFFSETTO:-0600
TZNAME:CST
DTSTART:20281105T070000
END:STANDARD
BEGIN:DAYLIGHT
TZOFFSETFROM:-0600
TZOFFSETTO:-0500
TZNAME:CDT
DTSTART:20290311T080000
END:DAYLIGHT
BEGIN:STANDARD
TZOFFSETFROM:-0500
TZOFFSETTO:-0600
TZNAME:CST
DTSTART:20291104T070000
END:STANDARD
END:VTIMEZONE
BEGIN:VEVENT
DTSTART;TZID=America/Chicago:20280924T093000
DTEND;TZID=America/Chicago:20280924T103000
DTSTAMP:20260423T020507
CREATED:20250917T202220Z
LAST-MODIFIED:20251216T205046Z
UID:10003730-1853400600-1853404200@firstprotestant.com
SUMMARY:First Service
DESCRIPTION:Join us for our First Service at 9:30am.  We gather in the sanctuary and worship together every Sunday morning.  Come enjoy the worship\, fellowship and amazing music displaying our historic pipe organ.  For more information\, you can call the church office at 830-609-7729 X110.
URL:https://firstprotestant.com/event/first-service-2-2/2028-09-24/
CATEGORIES:Worship
END:VEVENT
BEGIN:VEVENT
DTSTART;TZID=America/Chicago:20280924T110000
DTEND;TZID=America/Chicago:20280924T120000
DTSTAMP:20260423T020507
CREATED:20250917T204759Z
LAST-MODIFIED:20251216T205005Z
UID:10006071-1853406000-1853409600@firstprotestant.com
SUMMARY:Second Service
DESCRIPTION:Join us for our Second Service at 11:00am.  We gather in the sanctuary and worship together every Sunday morning.  Come enjoy the worship\, fellowship and amazing music of our contemporary worship band.  For more information\, you can call the church office at 830-609-7729 X110.
URL:https://firstprotestant.com/event/second-service/2028-09-24/
CATEGORIES:Worship
END:VEVENT
BEGIN:VEVENT
DTSTART;TZID=America/Chicago:20281001T093000
DTEND;TZID=America/Chicago:20281001T103000
DTSTAMP:20260423T020507
CREATED:20250917T202220Z
LAST-MODIFIED:20251216T205046Z
UID:10003731-1854005400-1854009000@firstprotestant.com
SUMMARY:First Service
DESCRIPTION:Join us for our First Service at 9:30am.  We gather in the sanctuary and worship together every Sunday morning.  Come enjoy the worship\, fellowship and amazing music displaying our historic pipe organ.  For more information\, you can call the church office at 830-609-7729 X110.
URL:https://firstprotestant.com/event/first-service-2-2/2028-10-01/
CATEGORIES:Worship
END:VEVENT
BEGIN:VEVENT
DTSTART;TZID=America/Chicago:20281001T110000
DTEND;TZID=America/Chicago:20281001T120000
DTSTAMP:20260423T020507
CREATED:20250917T204759Z
LAST-MODIFIED:20251216T205005Z
UID:10006072-1854010800-1854014400@firstprotestant.com
SUMMARY:Second Service
DESCRIPTION:Join us for our Second Service at 11:00am.  We gather in the sanctuary and worship together every Sunday morning.  Come enjoy the worship\, fellowship and amazing music of our contemporary worship band.  For more information\, you can call the church office at 830-609-7729 X110.
URL:https://firstprotestant.com/event/second-service/2028-10-01/
CATEGORIES:Worship
END:VEVENT
BEGIN:VEVENT
DTSTART;TZID=America/Chicago:20281008T093000
DTEND;TZID=America/Chicago:20281008T103000
DTSTAMP:20260423T020507
CREATED:20250917T202220Z
LAST-MODIFIED:20251216T205046Z
UID:10003732-1854610200-1854613800@firstprotestant.com
SUMMARY:First Service
DESCRIPTION:Join us for our First Service at 9:30am.  We gather in the sanctuary and worship together every Sunday morning.  Come enjoy the worship\, fellowship and amazing music displaying our historic pipe organ.  For more information\, you can call the church office at 830-609-7729 X110.
URL:https://firstprotestant.com/event/first-service-2-2/2028-10-08/
CATEGORIES:Worship
END:VEVENT
BEGIN:VEVENT
DTSTART;TZID=America/Chicago:20281008T110000
DTEND;TZID=America/Chicago:20281008T120000
DTSTAMP:20260423T020507
CREATED:20250917T204759Z
LAST-MODIFIED:20251216T205005Z
UID:10006073-1854615600-1854619200@firstprotestant.com
SUMMARY:Second Service
DESCRIPTION:Join us for our Second Service at 11:00am.  We gather in the sanctuary and worship together every Sunday morning.  Come enjoy the worship\, fellowship and amazing music of our contemporary worship band.  For more information\, you can call the church office at 830-609-7729 X110.
URL:https://firstprotestant.com/event/second-service/2028-10-08/
CATEGORIES:Worship
END:VEVENT
BEGIN:VEVENT
DTSTART;TZID=America/Chicago:20281015T093000
DTEND;TZID=America/Chicago:20281015T103000
DTSTAMP:20260423T020507
CREATED:20250917T202220Z
LAST-MODIFIED:20251216T205046Z
UID:10003733-1855215000-1855218600@firstprotestant.com
SUMMARY:First Service
DESCRIPTION:Join us for our First Service at 9:30am.  We gather in the sanctuary and worship together every Sunday morning.  Come enjoy the worship\, fellowship and amazing music displaying our historic pipe organ.  For more information\, you can call the church office at 830-609-7729 X110.
URL:https://firstprotestant.com/event/first-service-2-2/2028-10-15/
CATEGORIES:Worship
END:VEVENT
BEGIN:VEVENT
DTSTART;TZID=America/Chicago:20281015T110000
DTEND;TZID=America/Chicago:20281015T120000
DTSTAMP:20260423T020507
CREATED:20250917T204759Z
LAST-MODIFIED:20251216T205005Z
UID:10006074-1855220400-1855224000@firstprotestant.com
SUMMARY:Second Service
DESCRIPTION:Join us for our Second Service at 11:00am.  We gather in the sanctuary and worship together every Sunday morning.  Come enjoy the worship\, fellowship and amazing music of our contemporary worship band.  For more information\, you can call the church office at 830-609-7729 X110.
URL:https://firstprotestant.com/event/second-service/2028-10-15/
CATEGORIES:Worship
END:VEVENT
BEGIN:VEVENT
DTSTART;TZID=America/Chicago:20281022T093000
DTEND;TZID=America/Chicago:20281022T103000
DTSTAMP:20260423T020507
CREATED:20250917T202220Z
LAST-MODIFIED:20251216T205046Z
UID:10003734-1855819800-1855823400@firstprotestant.com
SUMMARY:First Service
DESCRIPTION:Join us for our First Service at 9:30am.  We gather in the sanctuary and worship together every Sunday morning.  Come enjoy the worship\, fellowship and amazing music displaying our historic pipe organ.  For more information\, you can call the church office at 830-609-7729 X110.
URL:https://firstprotestant.com/event/first-service-2-2/2028-10-22/
CATEGORIES:Worship
END:VEVENT
BEGIN:VEVENT
DTSTART;TZID=America/Chicago:20281022T110000
DTEND;TZID=America/Chicago:20281022T120000
DTSTAMP:20260423T020507
CREATED:20250917T204759Z
LAST-MODIFIED:20251216T205005Z
UID:10006075-1855825200-1855828800@firstprotestant.com
SUMMARY:Second Service
DESCRIPTION:Join us for our Second Service at 11:00am.  We gather in the sanctuary and worship together every Sunday morning.  Come enjoy the worship\, fellowship and amazing music of our contemporary worship band.  For more information\, you can call the church office at 830-609-7729 X110.
URL:https://firstprotestant.com/event/second-service/2028-10-22/
CATEGORIES:Worship
END:VEVENT
BEGIN:VEVENT
DTSTART;TZID=America/Chicago:20281029T093000
DTEND;TZID=America/Chicago:20281029T103000
DTSTAMP:20260423T020507
CREATED:20250917T202220Z
LAST-MODIFIED:20251216T205046Z
UID:10003735-1856424600-1856428200@firstprotestant.com
SUMMARY:First Service
DESCRIPTION:Join us for our First Service at 9:30am.  We gather in the sanctuary and worship together every Sunday morning.  Come enjoy the worship\, fellowship and amazing music displaying our historic pipe organ.  For more information\, you can call the church office at 830-609-7729 X110.
URL:https://firstprotestant.com/event/first-service-2-2/2028-10-29/
CATEGORIES:Worship
END:VEVENT
BEGIN:VEVENT
DTSTART;TZID=America/Chicago:20281029T110000
DTEND;TZID=America/Chicago:20281029T120000
DTSTAMP:20260423T020507
CREATED:20250917T204759Z
LAST-MODIFIED:20251216T205005Z
UID:10006076-1856430000-1856433600@firstprotestant.com
SUMMARY:Second Service
DESCRIPTION:Join us for our Second Service at 11:00am.  We gather in the sanctuary and worship together every Sunday morning.  Come enjoy the worship\, fellowship and amazing music of our contemporary worship band.  For more information\, you can call the church office at 830-609-7729 X110.
URL:https://firstprotestant.com/event/second-service/2028-10-29/
CATEGORIES:Worship
END:VEVENT
BEGIN:VEVENT
DTSTART;TZID=America/Chicago:20281105T093000
DTEND;TZID=America/Chicago:20281105T103000
DTSTAMP:20260423T020507
CREATED:20250917T202220Z
LAST-MODIFIED:20251216T205046Z
UID:10003736-1857029400-1857033000@firstprotestant.com
SUMMARY:First Service
DESCRIPTION:Join us for our First Service at 9:30am.  We gather in the sanctuary and worship together every Sunday morning.  Come enjoy the worship\, fellowship and amazing music displaying our historic pipe organ.  For more information\, you can call the church office at 830-609-7729 X110.
URL:https://firstprotestant.com/event/first-service-2-2/2028-11-05/
CATEGORIES:Worship
END:VEVENT
BEGIN:VEVENT
DTSTART;TZID=America/Chicago:20281105T110000
DTEND;TZID=America/Chicago:20281105T120000
DTSTAMP:20260423T020507
CREATED:20250917T204759Z
LAST-MODIFIED:20251216T205005Z
UID:10006077-1857034800-1857038400@firstprotestant.com
SUMMARY:Second Service
DESCRIPTION:Join us for our Second Service at 11:00am.  We gather in the sanctuary and worship together every Sunday morning.  Come enjoy the worship\, fellowship and amazing music of our contemporary worship band.  For more information\, you can call the church office at 830-609-7729 X110.
URL:https://firstprotestant.com/event/second-service/2028-11-05/
CATEGORIES:Worship
END:VEVENT
BEGIN:VEVENT
DTSTART;TZID=America/Chicago:20281112T093000
DTEND;TZID=America/Chicago:20281112T103000
DTSTAMP:20260423T020507
CREATED:20250917T202220Z
LAST-MODIFIED:20251216T205046Z
UID:10003737-1857634200-1857637800@firstprotestant.com
SUMMARY:First Service
DESCRIPTION:Join us for our First Service at 9:30am.  We gather in the sanctuary and worship together every Sunday morning.  Come enjoy the worship\, fellowship and amazing music displaying our historic pipe organ.  For more information\, you can call the church office at 830-609-7729 X110.
URL:https://firstprotestant.com/event/first-service-2-2/2028-11-12/
CATEGORIES:Worship
END:VEVENT
BEGIN:VEVENT
DTSTART;TZID=America/Chicago:20281112T110000
DTEND;TZID=America/Chicago:20281112T120000
DTSTAMP:20260423T020507
CREATED:20250917T204759Z
LAST-MODIFIED:20251216T205005Z
UID:10006078-1857639600-1857643200@firstprotestant.com
SUMMARY:Second Service
DESCRIPTION:Join us for our Second Service at 11:00am.  We gather in the sanctuary and worship together every Sunday morning.  Come enjoy the worship\, fellowship and amazing music of our contemporary worship band.  For more information\, you can call the church office at 830-609-7729 X110.
URL:https://firstprotestant.com/event/second-service/2028-11-12/
CATEGORIES:Worship
END:VEVENT
BEGIN:VEVENT
DTSTART;TZID=America/Chicago:20281119T093000
DTEND;TZID=America/Chicago:20281119T103000
DTSTAMP:20260423T020507
CREATED:20250917T202220Z
LAST-MODIFIED:20251216T205046Z
UID:10003738-1858239000-1858242600@firstprotestant.com
SUMMARY:First Service
DESCRIPTION:Join us for our First Service at 9:30am.  We gather in the sanctuary and worship together every Sunday morning.  Come enjoy the worship\, fellowship and amazing music displaying our historic pipe organ.  For more information\, you can call the church office at 830-609-7729 X110.
URL:https://firstprotestant.com/event/first-service-2-2/2028-11-19/
CATEGORIES:Worship
END:VEVENT
BEGIN:VEVENT
DTSTART;TZID=America/Chicago:20281119T110000
DTEND;TZID=America/Chicago:20281119T120000
DTSTAMP:20260423T020507
CREATED:20250917T204759Z
LAST-MODIFIED:20251216T205005Z
UID:10006079-1858244400-1858248000@firstprotestant.com
SUMMARY:Second Service
DESCRIPTION:Join us for our Second Service at 11:00am.  We gather in the sanctuary and worship together every Sunday morning.  Come enjoy the worship\, fellowship and amazing music of our contemporary worship band.  For more information\, you can call the church office at 830-609-7729 X110.
URL:https://firstprotestant.com/event/second-service/2028-11-19/
CATEGORIES:Worship
END:VEVENT
BEGIN:VEVENT
DTSTART;TZID=America/Chicago:20281126T093000
DTEND;TZID=America/Chicago:20281126T103000
DTSTAMP:20260423T020507
CREATED:20250917T202220Z
LAST-MODIFIED:20251216T205046Z
UID:10003739-1858843800-1858847400@firstprotestant.com
SUMMARY:First Service
DESCRIPTION:Join us for our First Service at 9:30am.  We gather in the sanctuary and worship together every Sunday morning.  Come enjoy the worship\, fellowship and amazing music displaying our historic pipe organ.  For more information\, you can call the church office at 830-609-7729 X110.
URL:https://firstprotestant.com/event/first-service-2-2/2028-11-26/
CATEGORIES:Worship
END:VEVENT
BEGIN:VEVENT
DTSTART;TZID=America/Chicago:20281126T110000
DTEND;TZID=America/Chicago:20281126T120000
DTSTAMP:20260423T020507
CREATED:20250917T204759Z
LAST-MODIFIED:20251216T205005Z
UID:10006080-1858849200-1858852800@firstprotestant.com
SUMMARY:Second Service
DESCRIPTION:Join us for our Second Service at 11:00am.  We gather in the sanctuary and worship together every Sunday morning.  Come enjoy the worship\, fellowship and amazing music of our contemporary worship band.  For more information\, you can call the church office at 830-609-7729 X110.
URL:https://firstprotestant.com/event/second-service/2028-11-26/
CATEGORIES:Worship
END:VEVENT
BEGIN:VEVENT
DTSTART;TZID=America/Chicago:20281203T093000
DTEND;TZID=America/Chicago:20281203T103000
DTSTAMP:20260423T020507
CREATED:20250917T202220Z
LAST-MODIFIED:20251216T205046Z
UID:10003740-1859448600-1859452200@firstprotestant.com
SUMMARY:First Service
DESCRIPTION:Join us for our First Service at 9:30am.  We gather in the sanctuary and worship together every Sunday morning.  Come enjoy the worship\, fellowship and amazing music displaying our historic pipe organ.  For more information\, you can call the church office at 830-609-7729 X110.
URL:https://firstprotestant.com/event/first-service-2-2/2028-12-03/
CATEGORIES:Worship
END:VEVENT
BEGIN:VEVENT
DTSTART;TZID=America/Chicago:20281203T110000
DTEND;TZID=America/Chicago:20281203T120000
DTSTAMP:20260423T020507
CREATED:20250917T204759Z
LAST-MODIFIED:20251216T205005Z
UID:10006081-1859454000-1859457600@firstprotestant.com
SUMMARY:Second Service
DESCRIPTION:Join us for our Second Service at 11:00am.  We gather in the sanctuary and worship together every Sunday morning.  Come enjoy the worship\, fellowship and amazing music of our contemporary worship band.  For more information\, you can call the church office at 830-609-7729 X110.
URL:https://firstprotestant.com/event/second-service/2028-12-03/
CATEGORIES:Worship
END:VEVENT
BEGIN:VEVENT
DTSTART;TZID=America/Chicago:20281210T093000
DTEND;TZID=America/Chicago:20281210T103000
DTSTAMP:20260423T020507
CREATED:20250917T202220Z
LAST-MODIFIED:20251216T205046Z
UID:10003741-1860053400-1860057000@firstprotestant.com
SUMMARY:First Service
DESCRIPTION:Join us for our First Service at 9:30am.  We gather in the sanctuary and worship together every Sunday morning.  Come enjoy the worship\, fellowship and amazing music displaying our historic pipe organ.  For more information\, you can call the church office at 830-609-7729 X110.
URL:https://firstprotestant.com/event/first-service-2-2/2028-12-10/
CATEGORIES:Worship
END:VEVENT
BEGIN:VEVENT
DTSTART;TZID=America/Chicago:20281210T110000
DTEND;TZID=America/Chicago:20281210T120000
DTSTAMP:20260423T020507
CREATED:20250917T204759Z
LAST-MODIFIED:20251216T205005Z
UID:10006082-1860058800-1860062400@firstprotestant.com
SUMMARY:Second Service
DESCRIPTION:Join us for our Second Service at 11:00am.  We gather in the sanctuary and worship together every Sunday morning.  Come enjoy the worship\, fellowship and amazing music of our contemporary worship band.  For more information\, you can call the church office at 830-609-7729 X110.
URL:https://firstprotestant.com/event/second-service/2028-12-10/
CATEGORIES:Worship
END:VEVENT
BEGIN:VEVENT
DTSTART;TZID=America/Chicago:20281217T093000
DTEND;TZID=America/Chicago:20281217T103000
DTSTAMP:20260423T020507
CREATED:20250917T202220Z
LAST-MODIFIED:20251216T205046Z
UID:10003742-1860658200-1860661800@firstprotestant.com
SUMMARY:First Service
DESCRIPTION:Join us for our First Service at 9:30am.  We gather in the sanctuary and worship together every Sunday morning.  Come enjoy the worship\, fellowship and amazing music displaying our historic pipe organ.  For more information\, you can call the church office at 830-609-7729 X110.
URL:https://firstprotestant.com/event/first-service-2-2/2028-12-17/
CATEGORIES:Worship
END:VEVENT
BEGIN:VEVENT
DTSTART;TZID=America/Chicago:20281217T110000
DTEND;TZID=America/Chicago:20281217T120000
DTSTAMP:20260423T020507
CREATED:20250917T204759Z
LAST-MODIFIED:20251216T205005Z
UID:10006083-1860663600-1860667200@firstprotestant.com
SUMMARY:Second Service
DESCRIPTION:Join us for our Second Service at 11:00am.  We gather in the sanctuary and worship together every Sunday morning.  Come enjoy the worship\, fellowship and amazing music of our contemporary worship band.  For more information\, you can call the church office at 830-609-7729 X110.
URL:https://firstprotestant.com/event/second-service/2028-12-17/
CATEGORIES:Worship
END:VEVENT
BEGIN:VEVENT
DTSTART;TZID=America/Chicago:20281224T093000
DTEND;TZID=America/Chicago:20281224T103000
DTSTAMP:20260423T020508
CREATED:20250917T202220Z
LAST-MODIFIED:20251216T205046Z
UID:10003743-1861263000-1861266600@firstprotestant.com
SUMMARY:First Service
DESCRIPTION:Join us for our First Service at 9:30am.  We gather in the sanctuary and worship together every Sunday morning.  Come enjoy the worship\, fellowship and amazing music displaying our historic pipe organ.  For more information\, you can call the church office at 830-609-7729 X110.
URL:https://firstprotestant.com/event/first-service-2-2/2028-12-24/
CATEGORIES:Worship
END:VEVENT
BEGIN:VEVENT
DTSTART;TZID=America/Chicago:20281224T110000
DTEND;TZID=America/Chicago:20281224T120000
DTSTAMP:20260423T020508
CREATED:20250917T204759Z
LAST-MODIFIED:20251216T205005Z
UID:10006084-1861268400-1861272000@firstprotestant.com
SUMMARY:Second Service
DESCRIPTION:Join us for our Second Service at 11:00am.  We gather in the sanctuary and worship together every Sunday morning.  Come enjoy the worship\, fellowship and amazing music of our contemporary worship band.  For more information\, you can call the church office at 830-609-7729 X110.
URL:https://firstprotestant.com/event/second-service/2028-12-24/
CATEGORIES:Worship
END:VEVENT
BEGIN:VEVENT
DTSTART;TZID=America/Chicago:20281231T093000
DTEND;TZID=America/Chicago:20281231T103000
DTSTAMP:20260423T020508
CREATED:20250917T202220Z
LAST-MODIFIED:20251216T205046Z
UID:10003744-1861867800-1861871400@firstprotestant.com
SUMMARY:First Service
DESCRIPTION:Join us for our First Service at 9:30am.  We gather in the sanctuary and worship together every Sunday morning.  Come enjoy the worship\, fellowship and amazing music displaying our historic pipe organ.  For more information\, you can call the church office at 830-609-7729 X110.
URL:https://firstprotestant.com/event/first-service-2-2/2028-12-31/
CATEGORIES:Worship
END:VEVENT
BEGIN:VEVENT
DTSTART;TZID=America/Chicago:20281231T110000
DTEND;TZID=America/Chicago:20281231T120000
DTSTAMP:20260423T020508
CREATED:20250917T204759Z
LAST-MODIFIED:20251216T205005Z
UID:10006085-1861873200-1861876800@firstprotestant.com
SUMMARY:Second Service
DESCRIPTION:Join us for our Second Service at 11:00am.  We gather in the sanctuary and worship together every Sunday morning.  Come enjoy the worship\, fellowship and amazing music of our contemporary worship band.  For more information\, you can call the church office at 830-609-7729 X110.
URL:https://firstprotestant.com/event/second-service/2028-12-31/
CATEGORIES:Worship
END:VEVENT
END:VCALENDAR