BEGIN:VCALENDAR
VERSION:2.0
PRODID:-//First Protestant Church Of New Braunfels - ECPv6.15.20//NONSGML v1.0//EN
CALSCALE:GREGORIAN
METHOD:PUBLISH
X-WR-CALNAME:First Protestant Church Of New Braunfels
X-ORIGINAL-URL:https://firstprotestant.com
X-WR-CALDESC:Events for First Protestant Church Of New Braunfels
REFRESH-INTERVAL;VALUE=DURATION:PT1H
X-Robots-Tag:noindex
X-PUBLISHED-TTL:PT1H
BEGIN:VTIMEZONE
TZID:America/Chicago
BEGIN:DAYLIGHT
TZOFFSETFROM:-0600
TZOFFSETTO:-0500
TZNAME:CDT
DTSTART:20260308T080000
END:DAYLIGHT
BEGIN:STANDARD
TZOFFSETFROM:-0500
TZOFFSETTO:-0600
TZNAME:CST
DTSTART:20261101T070000
END:STANDARD
BEGIN:DAYLIGHT
TZOFFSETFROM:-0600
TZOFFSETTO:-0500
TZNAME:CDT
DTSTART:20270314T080000
END:DAYLIGHT
BEGIN:STANDARD
TZOFFSETFROM:-0500
TZOFFSETTO:-0600
TZNAME:CST
DTSTART:20271107T070000
END:STANDARD
BEGIN:DAYLIGHT
TZOFFSETFROM:-0600
TZOFFSETTO:-0500
TZNAME:CDT
DTSTART:20280312T080000
END:DAYLIGHT
BEGIN:STANDARD
TZOFFSETFROM:-0500
TZOFFSETTO:-0600
TZNAME:CST
DTSTART:20281105T070000
END:STANDARD
BEGIN:DAYLIGHT
TZOFFSETFROM:-0600
TZOFFSETTO:-0500
TZNAME:CDT
DTSTART:20290311T080000
END:DAYLIGHT
BEGIN:STANDARD
TZOFFSETFROM:-0500
TZOFFSETTO:-0600
TZNAME:CST
DTSTART:20291104T070000
END:STANDARD
END:VTIMEZONE
BEGIN:VEVENT
DTSTART;TZID=America/Chicago:20271205T093000
DTEND;TZID=America/Chicago:20271205T103000
DTSTAMP:20260422T080316
CREATED:20250917T202220Z
LAST-MODIFIED:20251216T205046Z
UID:10003688-1827999000-1828002600@firstprotestant.com
SUMMARY:First Service
DESCRIPTION:Join us for our First Service at 9:30am.  We gather in the sanctuary and worship together every Sunday morning.  Come enjoy the worship\, fellowship and amazing music displaying our historic pipe organ.  For more information\, you can call the church office at 830-609-7729 X110.
URL:https://firstprotestant.com/event/first-service-2-2/2027-12-05/
CATEGORIES:Worship
END:VEVENT
BEGIN:VEVENT
DTSTART;TZID=America/Chicago:20271205T110000
DTEND;TZID=America/Chicago:20271205T120000
DTSTAMP:20260422T080316
CREATED:20250917T204759Z
LAST-MODIFIED:20251216T205005Z
UID:10006029-1828004400-1828008000@firstprotestant.com
SUMMARY:Second Service
DESCRIPTION:Join us for our Second Service at 11:00am.  We gather in the sanctuary and worship together every Sunday morning.  Come enjoy the worship\, fellowship and amazing music of our contemporary worship band.  For more information\, you can call the church office at 830-609-7729 X110.
URL:https://firstprotestant.com/event/second-service/2027-12-05/
CATEGORIES:Worship
END:VEVENT
BEGIN:VEVENT
DTSTART;TZID=America/Chicago:20271212T093000
DTEND;TZID=America/Chicago:20271212T103000
DTSTAMP:20260422T080316
CREATED:20250917T202220Z
LAST-MODIFIED:20251216T205046Z
UID:10003689-1828603800-1828607400@firstprotestant.com
SUMMARY:First Service
DESCRIPTION:Join us for our First Service at 9:30am.  We gather in the sanctuary and worship together every Sunday morning.  Come enjoy the worship\, fellowship and amazing music displaying our historic pipe organ.  For more information\, you can call the church office at 830-609-7729 X110.
URL:https://firstprotestant.com/event/first-service-2-2/2027-12-12/
CATEGORIES:Worship
END:VEVENT
BEGIN:VEVENT
DTSTART;TZID=America/Chicago:20271212T110000
DTEND;TZID=America/Chicago:20271212T120000
DTSTAMP:20260422T080316
CREATED:20250917T204759Z
LAST-MODIFIED:20251216T205005Z
UID:10006030-1828609200-1828612800@firstprotestant.com
SUMMARY:Second Service
DESCRIPTION:Join us for our Second Service at 11:00am.  We gather in the sanctuary and worship together every Sunday morning.  Come enjoy the worship\, fellowship and amazing music of our contemporary worship band.  For more information\, you can call the church office at 830-609-7729 X110.
URL:https://firstprotestant.com/event/second-service/2027-12-12/
CATEGORIES:Worship
END:VEVENT
BEGIN:VEVENT
DTSTART;TZID=America/Chicago:20271219T093000
DTEND;TZID=America/Chicago:20271219T103000
DTSTAMP:20260422T080316
CREATED:20250917T202220Z
LAST-MODIFIED:20251216T205046Z
UID:10003690-1829208600-1829212200@firstprotestant.com
SUMMARY:First Service
DESCRIPTION:Join us for our First Service at 9:30am.  We gather in the sanctuary and worship together every Sunday morning.  Come enjoy the worship\, fellowship and amazing music displaying our historic pipe organ.  For more information\, you can call the church office at 830-609-7729 X110.
URL:https://firstprotestant.com/event/first-service-2-2/2027-12-19/
CATEGORIES:Worship
END:VEVENT
BEGIN:VEVENT
DTSTART;TZID=America/Chicago:20271219T110000
DTEND;TZID=America/Chicago:20271219T120000
DTSTAMP:20260422T080316
CREATED:20250917T204759Z
LAST-MODIFIED:20251216T205005Z
UID:10006031-1829214000-1829217600@firstprotestant.com
SUMMARY:Second Service
DESCRIPTION:Join us for our Second Service at 11:00am.  We gather in the sanctuary and worship together every Sunday morning.  Come enjoy the worship\, fellowship and amazing music of our contemporary worship band.  For more information\, you can call the church office at 830-609-7729 X110.
URL:https://firstprotestant.com/event/second-service/2027-12-19/
CATEGORIES:Worship
END:VEVENT
BEGIN:VEVENT
DTSTART;TZID=America/Chicago:20271226T093000
DTEND;TZID=America/Chicago:20271226T103000
DTSTAMP:20260422T080316
CREATED:20250917T202220Z
LAST-MODIFIED:20251216T205046Z
UID:10003691-1829813400-1829817000@firstprotestant.com
SUMMARY:First Service
DESCRIPTION:Join us for our First Service at 9:30am.  We gather in the sanctuary and worship together every Sunday morning.  Come enjoy the worship\, fellowship and amazing music displaying our historic pipe organ.  For more information\, you can call the church office at 830-609-7729 X110.
URL:https://firstprotestant.com/event/first-service-2-2/2027-12-26/
CATEGORIES:Worship
END:VEVENT
BEGIN:VEVENT
DTSTART;TZID=America/Chicago:20271226T110000
DTEND;TZID=America/Chicago:20271226T120000
DTSTAMP:20260422T080316
CREATED:20250917T204759Z
LAST-MODIFIED:20251216T205005Z
UID:10006032-1829818800-1829822400@firstprotestant.com
SUMMARY:Second Service
DESCRIPTION:Join us for our Second Service at 11:00am.  We gather in the sanctuary and worship together every Sunday morning.  Come enjoy the worship\, fellowship and amazing music of our contemporary worship band.  For more information\, you can call the church office at 830-609-7729 X110.
URL:https://firstprotestant.com/event/second-service/2027-12-26/
CATEGORIES:Worship
END:VEVENT
BEGIN:VEVENT
DTSTART;TZID=America/Chicago:20280102T093000
DTEND;TZID=America/Chicago:20280102T103000
DTSTAMP:20260422T080316
CREATED:20250917T202220Z
LAST-MODIFIED:20251216T205046Z
UID:10003692-1830418200-1830421800@firstprotestant.com
SUMMARY:First Service
DESCRIPTION:Join us for our First Service at 9:30am.  We gather in the sanctuary and worship together every Sunday morning.  Come enjoy the worship\, fellowship and amazing music displaying our historic pipe organ.  For more information\, you can call the church office at 830-609-7729 X110.
URL:https://firstprotestant.com/event/first-service-2-2/2028-01-02/
CATEGORIES:Worship
END:VEVENT
BEGIN:VEVENT
DTSTART;TZID=America/Chicago:20280102T110000
DTEND;TZID=America/Chicago:20280102T120000
DTSTAMP:20260422T080316
CREATED:20250917T204759Z
LAST-MODIFIED:20251216T205005Z
UID:10006033-1830423600-1830427200@firstprotestant.com
SUMMARY:Second Service
DESCRIPTION:Join us for our Second Service at 11:00am.  We gather in the sanctuary and worship together every Sunday morning.  Come enjoy the worship\, fellowship and amazing music of our contemporary worship band.  For more information\, you can call the church office at 830-609-7729 X110.
URL:https://firstprotestant.com/event/second-service/2028-01-02/
CATEGORIES:Worship
END:VEVENT
BEGIN:VEVENT
DTSTART;TZID=America/Chicago:20280109T093000
DTEND;TZID=America/Chicago:20280109T103000
DTSTAMP:20260422T080316
CREATED:20250917T202220Z
LAST-MODIFIED:20251216T205046Z
UID:10003693-1831023000-1831026600@firstprotestant.com
SUMMARY:First Service
DESCRIPTION:Join us for our First Service at 9:30am.  We gather in the sanctuary and worship together every Sunday morning.  Come enjoy the worship\, fellowship and amazing music displaying our historic pipe organ.  For more information\, you can call the church office at 830-609-7729 X110.
URL:https://firstprotestant.com/event/first-service-2-2/2028-01-09/
CATEGORIES:Worship
END:VEVENT
BEGIN:VEVENT
DTSTART;TZID=America/Chicago:20280109T110000
DTEND;TZID=America/Chicago:20280109T120000
DTSTAMP:20260422T080316
CREATED:20250917T204759Z
LAST-MODIFIED:20251216T205005Z
UID:10006034-1831028400-1831032000@firstprotestant.com
SUMMARY:Second Service
DESCRIPTION:Join us for our Second Service at 11:00am.  We gather in the sanctuary and worship together every Sunday morning.  Come enjoy the worship\, fellowship and amazing music of our contemporary worship band.  For more information\, you can call the church office at 830-609-7729 X110.
URL:https://firstprotestant.com/event/second-service/2028-01-09/
CATEGORIES:Worship
END:VEVENT
BEGIN:VEVENT
DTSTART;TZID=America/Chicago:20280116T093000
DTEND;TZID=America/Chicago:20280116T103000
DTSTAMP:20260422T080316
CREATED:20250917T202220Z
LAST-MODIFIED:20251216T205046Z
UID:10003694-1831627800-1831631400@firstprotestant.com
SUMMARY:First Service
DESCRIPTION:Join us for our First Service at 9:30am.  We gather in the sanctuary and worship together every Sunday morning.  Come enjoy the worship\, fellowship and amazing music displaying our historic pipe organ.  For more information\, you can call the church office at 830-609-7729 X110.
URL:https://firstprotestant.com/event/first-service-2-2/2028-01-16/
CATEGORIES:Worship
END:VEVENT
BEGIN:VEVENT
DTSTART;TZID=America/Chicago:20280116T110000
DTEND;TZID=America/Chicago:20280116T120000
DTSTAMP:20260422T080316
CREATED:20250917T204759Z
LAST-MODIFIED:20251216T205005Z
UID:10006035-1831633200-1831636800@firstprotestant.com
SUMMARY:Second Service
DESCRIPTION:Join us for our Second Service at 11:00am.  We gather in the sanctuary and worship together every Sunday morning.  Come enjoy the worship\, fellowship and amazing music of our contemporary worship band.  For more information\, you can call the church office at 830-609-7729 X110.
URL:https://firstprotestant.com/event/second-service/2028-01-16/
CATEGORIES:Worship
END:VEVENT
BEGIN:VEVENT
DTSTART;TZID=America/Chicago:20280123T093000
DTEND;TZID=America/Chicago:20280123T103000
DTSTAMP:20260422T080316
CREATED:20250917T202220Z
LAST-MODIFIED:20251216T205046Z
UID:10003695-1832232600-1832236200@firstprotestant.com
SUMMARY:First Service
DESCRIPTION:Join us for our First Service at 9:30am.  We gather in the sanctuary and worship together every Sunday morning.  Come enjoy the worship\, fellowship and amazing music displaying our historic pipe organ.  For more information\, you can call the church office at 830-609-7729 X110.
URL:https://firstprotestant.com/event/first-service-2-2/2028-01-23/
CATEGORIES:Worship
END:VEVENT
BEGIN:VEVENT
DTSTART;TZID=America/Chicago:20280123T110000
DTEND;TZID=America/Chicago:20280123T120000
DTSTAMP:20260422T080316
CREATED:20250917T204759Z
LAST-MODIFIED:20251216T205005Z
UID:10006036-1832238000-1832241600@firstprotestant.com
SUMMARY:Second Service
DESCRIPTION:Join us for our Second Service at 11:00am.  We gather in the sanctuary and worship together every Sunday morning.  Come enjoy the worship\, fellowship and amazing music of our contemporary worship band.  For more information\, you can call the church office at 830-609-7729 X110.
URL:https://firstprotestant.com/event/second-service/2028-01-23/
CATEGORIES:Worship
END:VEVENT
BEGIN:VEVENT
DTSTART;TZID=America/Chicago:20280130T093000
DTEND;TZID=America/Chicago:20280130T103000
DTSTAMP:20260422T080316
CREATED:20250917T202220Z
LAST-MODIFIED:20251216T205046Z
UID:10003696-1832837400-1832841000@firstprotestant.com
SUMMARY:First Service
DESCRIPTION:Join us for our First Service at 9:30am.  We gather in the sanctuary and worship together every Sunday morning.  Come enjoy the worship\, fellowship and amazing music displaying our historic pipe organ.  For more information\, you can call the church office at 830-609-7729 X110.
URL:https://firstprotestant.com/event/first-service-2-2/2028-01-30/
CATEGORIES:Worship
END:VEVENT
BEGIN:VEVENT
DTSTART;TZID=America/Chicago:20280130T110000
DTEND;TZID=America/Chicago:20280130T120000
DTSTAMP:20260422T080316
CREATED:20250917T204759Z
LAST-MODIFIED:20251216T205005Z
UID:10006037-1832842800-1832846400@firstprotestant.com
SUMMARY:Second Service
DESCRIPTION:Join us for our Second Service at 11:00am.  We gather in the sanctuary and worship together every Sunday morning.  Come enjoy the worship\, fellowship and amazing music of our contemporary worship band.  For more information\, you can call the church office at 830-609-7729 X110.
URL:https://firstprotestant.com/event/second-service/2028-01-30/
CATEGORIES:Worship
END:VEVENT
BEGIN:VEVENT
DTSTART;TZID=America/Chicago:20280206T093000
DTEND;TZID=America/Chicago:20280206T103000
DTSTAMP:20260422T080316
CREATED:20250917T202220Z
LAST-MODIFIED:20251216T205046Z
UID:10003697-1833442200-1833445800@firstprotestant.com
SUMMARY:First Service
DESCRIPTION:Join us for our First Service at 9:30am.  We gather in the sanctuary and worship together every Sunday morning.  Come enjoy the worship\, fellowship and amazing music displaying our historic pipe organ.  For more information\, you can call the church office at 830-609-7729 X110.
URL:https://firstprotestant.com/event/first-service-2-2/2028-02-06/
CATEGORIES:Worship
END:VEVENT
BEGIN:VEVENT
DTSTART;TZID=America/Chicago:20280206T110000
DTEND;TZID=America/Chicago:20280206T120000
DTSTAMP:20260422T080316
CREATED:20250917T204759Z
LAST-MODIFIED:20251216T205005Z
UID:10006038-1833447600-1833451200@firstprotestant.com
SUMMARY:Second Service
DESCRIPTION:Join us for our Second Service at 11:00am.  We gather in the sanctuary and worship together every Sunday morning.  Come enjoy the worship\, fellowship and amazing music of our contemporary worship band.  For more information\, you can call the church office at 830-609-7729 X110.
URL:https://firstprotestant.com/event/second-service/2028-02-06/
CATEGORIES:Worship
END:VEVENT
BEGIN:VEVENT
DTSTART;TZID=America/Chicago:20280213T093000
DTEND;TZID=America/Chicago:20280213T103000
DTSTAMP:20260422T080316
CREATED:20250917T202220Z
LAST-MODIFIED:20251216T205046Z
UID:10003698-1834047000-1834050600@firstprotestant.com
SUMMARY:First Service
DESCRIPTION:Join us for our First Service at 9:30am.  We gather in the sanctuary and worship together every Sunday morning.  Come enjoy the worship\, fellowship and amazing music displaying our historic pipe organ.  For more information\, you can call the church office at 830-609-7729 X110.
URL:https://firstprotestant.com/event/first-service-2-2/2028-02-13/
CATEGORIES:Worship
END:VEVENT
BEGIN:VEVENT
DTSTART;TZID=America/Chicago:20280213T110000
DTEND;TZID=America/Chicago:20280213T120000
DTSTAMP:20260422T080316
CREATED:20250917T204759Z
LAST-MODIFIED:20251216T205005Z
UID:10006039-1834052400-1834056000@firstprotestant.com
SUMMARY:Second Service
DESCRIPTION:Join us for our Second Service at 11:00am.  We gather in the sanctuary and worship together every Sunday morning.  Come enjoy the worship\, fellowship and amazing music of our contemporary worship band.  For more information\, you can call the church office at 830-609-7729 X110.
URL:https://firstprotestant.com/event/second-service/2028-02-13/
CATEGORIES:Worship
END:VEVENT
BEGIN:VEVENT
DTSTART;TZID=America/Chicago:20280220T093000
DTEND;TZID=America/Chicago:20280220T103000
DTSTAMP:20260422T080316
CREATED:20250917T202220Z
LAST-MODIFIED:20251216T205046Z
UID:10003699-1834651800-1834655400@firstprotestant.com
SUMMARY:First Service
DESCRIPTION:Join us for our First Service at 9:30am.  We gather in the sanctuary and worship together every Sunday morning.  Come enjoy the worship\, fellowship and amazing music displaying our historic pipe organ.  For more information\, you can call the church office at 830-609-7729 X110.
URL:https://firstprotestant.com/event/first-service-2-2/2028-02-20/
CATEGORIES:Worship
END:VEVENT
BEGIN:VEVENT
DTSTART;TZID=America/Chicago:20280220T110000
DTEND;TZID=America/Chicago:20280220T120000
DTSTAMP:20260422T080316
CREATED:20250917T204759Z
LAST-MODIFIED:20251216T205005Z
UID:10006040-1834657200-1834660800@firstprotestant.com
SUMMARY:Second Service
DESCRIPTION:Join us for our Second Service at 11:00am.  We gather in the sanctuary and worship together every Sunday morning.  Come enjoy the worship\, fellowship and amazing music of our contemporary worship band.  For more information\, you can call the church office at 830-609-7729 X110.
URL:https://firstprotestant.com/event/second-service/2028-02-20/
CATEGORIES:Worship
END:VEVENT
BEGIN:VEVENT
DTSTART;TZID=America/Chicago:20280227T093000
DTEND;TZID=America/Chicago:20280227T103000
DTSTAMP:20260422T080316
CREATED:20250917T202220Z
LAST-MODIFIED:20251216T205046Z
UID:10003700-1835256600-1835260200@firstprotestant.com
SUMMARY:First Service
DESCRIPTION:Join us for our First Service at 9:30am.  We gather in the sanctuary and worship together every Sunday morning.  Come enjoy the worship\, fellowship and amazing music displaying our historic pipe organ.  For more information\, you can call the church office at 830-609-7729 X110.
URL:https://firstprotestant.com/event/first-service-2-2/2028-02-27/
CATEGORIES:Worship
END:VEVENT
BEGIN:VEVENT
DTSTART;TZID=America/Chicago:20280227T110000
DTEND;TZID=America/Chicago:20280227T120000
DTSTAMP:20260422T080316
CREATED:20250917T204759Z
LAST-MODIFIED:20251216T205005Z
UID:10006041-1835262000-1835265600@firstprotestant.com
SUMMARY:Second Service
DESCRIPTION:Join us for our Second Service at 11:00am.  We gather in the sanctuary and worship together every Sunday morning.  Come enjoy the worship\, fellowship and amazing music of our contemporary worship band.  For more information\, you can call the church office at 830-609-7729 X110.
URL:https://firstprotestant.com/event/second-service/2028-02-27/
CATEGORIES:Worship
END:VEVENT
BEGIN:VEVENT
DTSTART;TZID=America/Chicago:20280305T093000
DTEND;TZID=America/Chicago:20280305T103000
DTSTAMP:20260422T080316
CREATED:20250917T202220Z
LAST-MODIFIED:20251216T205046Z
UID:10003701-1835861400-1835865000@firstprotestant.com
SUMMARY:First Service
DESCRIPTION:Join us for our First Service at 9:30am.  We gather in the sanctuary and worship together every Sunday morning.  Come enjoy the worship\, fellowship and amazing music displaying our historic pipe organ.  For more information\, you can call the church office at 830-609-7729 X110.
URL:https://firstprotestant.com/event/first-service-2-2/2028-03-05/
CATEGORIES:Worship
END:VEVENT
BEGIN:VEVENT
DTSTART;TZID=America/Chicago:20280305T110000
DTEND;TZID=America/Chicago:20280305T120000
DTSTAMP:20260422T080316
CREATED:20250917T204759Z
LAST-MODIFIED:20251216T205005Z
UID:10006042-1835866800-1835870400@firstprotestant.com
SUMMARY:Second Service
DESCRIPTION:Join us for our Second Service at 11:00am.  We gather in the sanctuary and worship together every Sunday morning.  Come enjoy the worship\, fellowship and amazing music of our contemporary worship band.  For more information\, you can call the church office at 830-609-7729 X110.
URL:https://firstprotestant.com/event/second-service/2028-03-05/
CATEGORIES:Worship
END:VEVENT
BEGIN:VEVENT
DTSTART;TZID=America/Chicago:20280312T093000
DTEND;TZID=America/Chicago:20280312T103000
DTSTAMP:20260422T080316
CREATED:20250917T202220Z
LAST-MODIFIED:20251216T205046Z
UID:10003702-1836466200-1836469800@firstprotestant.com
SUMMARY:First Service
DESCRIPTION:Join us for our First Service at 9:30am.  We gather in the sanctuary and worship together every Sunday morning.  Come enjoy the worship\, fellowship and amazing music displaying our historic pipe organ.  For more information\, you can call the church office at 830-609-7729 X110.
URL:https://firstprotestant.com/event/first-service-2-2/2028-03-12/
CATEGORIES:Worship
END:VEVENT
BEGIN:VEVENT
DTSTART;TZID=America/Chicago:20280312T110000
DTEND;TZID=America/Chicago:20280312T120000
DTSTAMP:20260422T080316
CREATED:20250917T204759Z
LAST-MODIFIED:20251216T205005Z
UID:10006043-1836471600-1836475200@firstprotestant.com
SUMMARY:Second Service
DESCRIPTION:Join us for our Second Service at 11:00am.  We gather in the sanctuary and worship together every Sunday morning.  Come enjoy the worship\, fellowship and amazing music of our contemporary worship band.  For more information\, you can call the church office at 830-609-7729 X110.
URL:https://firstprotestant.com/event/second-service/2028-03-12/
CATEGORIES:Worship
END:VEVENT
END:VCALENDAR