BEGIN:VCALENDAR
VERSION:2.0
PRODID:-//First Protestant Church Of New Braunfels - ECPv6.15.20//NONSGML v1.0//EN
CALSCALE:GREGORIAN
METHOD:PUBLISH
X-ORIGINAL-URL:https://firstprotestant.com
X-WR-CALDESC:Events for First Protestant Church Of New Braunfels
REFRESH-INTERVAL;VALUE=DURATION:PT1H
X-Robots-Tag:noindex
X-PUBLISHED-TTL:PT1H
BEGIN:VTIMEZONE
TZID:America/Chicago
BEGIN:DAYLIGHT
TZOFFSETFROM:-0600
TZOFFSETTO:-0500
TZNAME:CDT
DTSTART:20250309T080000
END:DAYLIGHT
BEGIN:STANDARD
TZOFFSETFROM:-0500
TZOFFSETTO:-0600
TZNAME:CST
DTSTART:20251102T070000
END:STANDARD
BEGIN:DAYLIGHT
TZOFFSETFROM:-0600
TZOFFSETTO:-0500
TZNAME:CDT
DTSTART:20260308T080000
END:DAYLIGHT
BEGIN:STANDARD
TZOFFSETFROM:-0500
TZOFFSETTO:-0600
TZNAME:CST
DTSTART:20261101T070000
END:STANDARD
BEGIN:DAYLIGHT
TZOFFSETFROM:-0600
TZOFFSETTO:-0500
TZNAME:CDT
DTSTART:20270314T080000
END:DAYLIGHT
BEGIN:STANDARD
TZOFFSETFROM:-0500
TZOFFSETTO:-0600
TZNAME:CST
DTSTART:20271107T070000
END:STANDARD
END:VTIMEZONE
BEGIN:VEVENT
DTSTART;TZID=America/Chicago:20260705T093000
DTEND;TZID=America/Chicago:20260705T103000
DTSTAMP:20260421T125907
CREATED:20250917T202220Z
LAST-MODIFIED:20251216T205046Z
UID:10002729-1783243800-1783247400@firstprotestant.com
SUMMARY:First Service
DESCRIPTION:Join us for our First Service at 9:30am.  We gather in the sanctuary and worship together every Sunday morning.  Come enjoy the worship\, fellowship and amazing music displaying our historic pipe organ.  For more information\, you can call the church office at 830-609-7729 X110.
URL:https://firstprotestant.com/event/first-service-2-2/2026-07-05/
CATEGORIES:Worship
END:VEVENT
BEGIN:VEVENT
DTSTART;TZID=America/Chicago:20260705T110000
DTEND;TZID=America/Chicago:20260705T120000
DTSTAMP:20260421T125907
CREATED:20250917T204759Z
LAST-MODIFIED:20251216T205005Z
UID:10005955-1783249200-1783252800@firstprotestant.com
SUMMARY:Second Service
DESCRIPTION:Join us for our Second Service at 11:00am.  We gather in the sanctuary and worship together every Sunday morning.  Come enjoy the worship\, fellowship and amazing music of our contemporary worship band.  For more information\, you can call the church office at 830-609-7729 X110.
URL:https://firstprotestant.com/event/second-service/2026-07-05/
CATEGORIES:Worship
END:VEVENT
BEGIN:VEVENT
DTSTART;TZID=America/Chicago:20260712T093000
DTEND;TZID=America/Chicago:20260712T103000
DTSTAMP:20260421T125907
CREATED:20250917T202220Z
LAST-MODIFIED:20251216T205046Z
UID:10002730-1783848600-1783852200@firstprotestant.com
SUMMARY:First Service
DESCRIPTION:Join us for our First Service at 9:30am.  We gather in the sanctuary and worship together every Sunday morning.  Come enjoy the worship\, fellowship and amazing music displaying our historic pipe organ.  For more information\, you can call the church office at 830-609-7729 X110.
URL:https://firstprotestant.com/event/first-service-2-2/2026-07-12/
CATEGORIES:Worship
END:VEVENT
BEGIN:VEVENT
DTSTART;TZID=America/Chicago:20260712T110000
DTEND;TZID=America/Chicago:20260712T120000
DTSTAMP:20260421T125907
CREATED:20250917T204759Z
LAST-MODIFIED:20251216T205005Z
UID:10005956-1783854000-1783857600@firstprotestant.com
SUMMARY:Second Service
DESCRIPTION:Join us for our Second Service at 11:00am.  We gather in the sanctuary and worship together every Sunday morning.  Come enjoy the worship\, fellowship and amazing music of our contemporary worship band.  For more information\, you can call the church office at 830-609-7729 X110.
URL:https://firstprotestant.com/event/second-service/2026-07-12/
CATEGORIES:Worship
END:VEVENT
BEGIN:VEVENT
DTSTART;TZID=America/Chicago:20260719T093000
DTEND;TZID=America/Chicago:20260719T103000
DTSTAMP:20260421T125907
CREATED:20250917T202220Z
LAST-MODIFIED:20251216T205046Z
UID:10002731-1784453400-1784457000@firstprotestant.com
SUMMARY:First Service
DESCRIPTION:Join us for our First Service at 9:30am.  We gather in the sanctuary and worship together every Sunday morning.  Come enjoy the worship\, fellowship and amazing music displaying our historic pipe organ.  For more information\, you can call the church office at 830-609-7729 X110.
URL:https://firstprotestant.com/event/first-service-2-2/2026-07-19/
CATEGORIES:Worship
END:VEVENT
BEGIN:VEVENT
DTSTART;TZID=America/Chicago:20260719T110000
DTEND;TZID=America/Chicago:20260719T120000
DTSTAMP:20260421T125907
CREATED:20250917T204759Z
LAST-MODIFIED:20251216T205005Z
UID:10005957-1784458800-1784462400@firstprotestant.com
SUMMARY:Second Service
DESCRIPTION:Join us for our Second Service at 11:00am.  We gather in the sanctuary and worship together every Sunday morning.  Come enjoy the worship\, fellowship and amazing music of our contemporary worship band.  For more information\, you can call the church office at 830-609-7729 X110.
URL:https://firstprotestant.com/event/second-service/2026-07-19/
CATEGORIES:Worship
END:VEVENT
BEGIN:VEVENT
DTSTART;TZID=America/Chicago:20260726T093000
DTEND;TZID=America/Chicago:20260726T103000
DTSTAMP:20260421T125907
CREATED:20250917T202220Z
LAST-MODIFIED:20251216T205046Z
UID:10002732-1785058200-1785061800@firstprotestant.com
SUMMARY:First Service
DESCRIPTION:Join us for our First Service at 9:30am.  We gather in the sanctuary and worship together every Sunday morning.  Come enjoy the worship\, fellowship and amazing music displaying our historic pipe organ.  For more information\, you can call the church office at 830-609-7729 X110.
URL:https://firstprotestant.com/event/first-service-2-2/2026-07-26/
CATEGORIES:Worship
END:VEVENT
BEGIN:VEVENT
DTSTART;TZID=America/Chicago:20260726T110000
DTEND;TZID=America/Chicago:20260726T120000
DTSTAMP:20260421T125907
CREATED:20250917T204759Z
LAST-MODIFIED:20251216T205005Z
UID:10005958-1785063600-1785067200@firstprotestant.com
SUMMARY:Second Service
DESCRIPTION:Join us for our Second Service at 11:00am.  We gather in the sanctuary and worship together every Sunday morning.  Come enjoy the worship\, fellowship and amazing music of our contemporary worship band.  For more information\, you can call the church office at 830-609-7729 X110.
URL:https://firstprotestant.com/event/second-service/2026-07-26/
CATEGORIES:Worship
END:VEVENT
END:VCALENDAR