BEGIN:VCALENDAR
VERSION:2.0
PRODID:-//First Protestant Church Of New Braunfels - ECPv6.15.20//NONSGML v1.0//EN
CALSCALE:GREGORIAN
METHOD:PUBLISH
X-WR-CALNAME:First Protestant Church Of New Braunfels
X-ORIGINAL-URL:https://firstprotestant.com
X-WR-CALDESC:Events for First Protestant Church Of New Braunfels
REFRESH-INTERVAL;VALUE=DURATION:PT1H
X-Robots-Tag:noindex
X-PUBLISHED-TTL:PT1H
BEGIN:VTIMEZONE
TZID:America/Chicago
BEGIN:DAYLIGHT
TZOFFSETFROM:-0600
TZOFFSETTO:-0500
TZNAME:CDT
DTSTART:20250309T080000
END:DAYLIGHT
BEGIN:STANDARD
TZOFFSETFROM:-0500
TZOFFSETTO:-0600
TZNAME:CST
DTSTART:20251102T070000
END:STANDARD
BEGIN:DAYLIGHT
TZOFFSETFROM:-0600
TZOFFSETTO:-0500
TZNAME:CDT
DTSTART:20260308T080000
END:DAYLIGHT
BEGIN:STANDARD
TZOFFSETFROM:-0500
TZOFFSETTO:-0600
TZNAME:CST
DTSTART:20261101T070000
END:STANDARD
BEGIN:DAYLIGHT
TZOFFSETFROM:-0600
TZOFFSETTO:-0500
TZNAME:CDT
DTSTART:20270314T080000
END:DAYLIGHT
BEGIN:STANDARD
TZOFFSETFROM:-0500
TZOFFSETTO:-0600
TZNAME:CST
DTSTART:20271107T070000
END:STANDARD
END:VTIMEZONE
BEGIN:VEVENT
DTSTART;TZID=America/Chicago:20260503T093000
DTEND;TZID=America/Chicago:20260503T103000
DTSTAMP:20260421T095832
CREATED:20250917T202220Z
LAST-MODIFIED:20251216T205046Z
UID:10002720-1777800600-1777804200@firstprotestant.com
SUMMARY:First Service
DESCRIPTION:Join us for our First Service at 9:30am.  We gather in the sanctuary and worship together every Sunday morning.  Come enjoy the worship\, fellowship and amazing music displaying our historic pipe organ.  For more information\, you can call the church office at 830-609-7729 X110.
URL:https://firstprotestant.com/event/first-service-2-2/2026-05-03/
CATEGORIES:Worship
END:VEVENT
BEGIN:VEVENT
DTSTART;TZID=America/Chicago:20260503T110000
DTEND;TZID=America/Chicago:20260503T120000
DTSTAMP:20260421T095832
CREATED:20250917T204759Z
LAST-MODIFIED:20251216T205005Z
UID:10005946-1777806000-1777809600@firstprotestant.com
SUMMARY:Second Service
DESCRIPTION:Join us for our Second Service at 11:00am.  We gather in the sanctuary and worship together every Sunday morning.  Come enjoy the worship\, fellowship and amazing music of our contemporary worship band.  For more information\, you can call the church office at 830-609-7729 X110.
URL:https://firstprotestant.com/event/second-service/2026-05-03/
CATEGORIES:Worship
END:VEVENT
BEGIN:VEVENT
DTSTART;TZID=America/Chicago:20260510T093000
DTEND;TZID=America/Chicago:20260510T103000
DTSTAMP:20260421T095832
CREATED:20250917T202220Z
LAST-MODIFIED:20251216T205046Z
UID:10002721-1778405400-1778409000@firstprotestant.com
SUMMARY:First Service
DESCRIPTION:Join us for our First Service at 9:30am.  We gather in the sanctuary and worship together every Sunday morning.  Come enjoy the worship\, fellowship and amazing music displaying our historic pipe organ.  For more information\, you can call the church office at 830-609-7729 X110.
URL:https://firstprotestant.com/event/first-service-2-2/2026-05-10/
CATEGORIES:Worship
END:VEVENT
BEGIN:VEVENT
DTSTART;TZID=America/Chicago:20260510T110000
DTEND;TZID=America/Chicago:20260510T120000
DTSTAMP:20260421T095832
CREATED:20250917T204759Z
LAST-MODIFIED:20251216T205005Z
UID:10005947-1778410800-1778414400@firstprotestant.com
SUMMARY:Second Service
DESCRIPTION:Join us for our Second Service at 11:00am.  We gather in the sanctuary and worship together every Sunday morning.  Come enjoy the worship\, fellowship and amazing music of our contemporary worship band.  For more information\, you can call the church office at 830-609-7729 X110.
URL:https://firstprotestant.com/event/second-service/2026-05-10/
CATEGORIES:Worship
END:VEVENT
BEGIN:VEVENT
DTSTART;TZID=America/Chicago:20260517T093000
DTEND;TZID=America/Chicago:20260517T103000
DTSTAMP:20260421T095832
CREATED:20250917T202220Z
LAST-MODIFIED:20251216T205046Z
UID:10002722-1779010200-1779013800@firstprotestant.com
SUMMARY:First Service
DESCRIPTION:Join us for our First Service at 9:30am.  We gather in the sanctuary and worship together every Sunday morning.  Come enjoy the worship\, fellowship and amazing music displaying our historic pipe organ.  For more information\, you can call the church office at 830-609-7729 X110.
URL:https://firstprotestant.com/event/first-service-2-2/2026-05-17/
CATEGORIES:Worship
END:VEVENT
BEGIN:VEVENT
DTSTART;TZID=America/Chicago:20260517T110000
DTEND;TZID=America/Chicago:20260517T120000
DTSTAMP:20260421T095832
CREATED:20250917T204759Z
LAST-MODIFIED:20251216T205005Z
UID:10005948-1779015600-1779019200@firstprotestant.com
SUMMARY:Second Service
DESCRIPTION:Join us for our Second Service at 11:00am.  We gather in the sanctuary and worship together every Sunday morning.  Come enjoy the worship\, fellowship and amazing music of our contemporary worship band.  For more information\, you can call the church office at 830-609-7729 X110.
URL:https://firstprotestant.com/event/second-service/2026-05-17/
CATEGORIES:Worship
END:VEVENT
BEGIN:VEVENT
DTSTART;TZID=America/Chicago:20260524T093000
DTEND;TZID=America/Chicago:20260524T103000
DTSTAMP:20260421T095832
CREATED:20250917T202220Z
LAST-MODIFIED:20251216T205046Z
UID:10002723-1779615000-1779618600@firstprotestant.com
SUMMARY:First Service
DESCRIPTION:Join us for our First Service at 9:30am.  We gather in the sanctuary and worship together every Sunday morning.  Come enjoy the worship\, fellowship and amazing music displaying our historic pipe organ.  For more information\, you can call the church office at 830-609-7729 X110.
URL:https://firstprotestant.com/event/first-service-2-2/2026-05-24/
CATEGORIES:Worship
END:VEVENT
BEGIN:VEVENT
DTSTART;TZID=America/Chicago:20260524T110000
DTEND;TZID=America/Chicago:20260524T120000
DTSTAMP:20260421T095832
CREATED:20250917T204759Z
LAST-MODIFIED:20251216T205005Z
UID:10005949-1779620400-1779624000@firstprotestant.com
SUMMARY:Second Service
DESCRIPTION:Join us for our Second Service at 11:00am.  We gather in the sanctuary and worship together every Sunday morning.  Come enjoy the worship\, fellowship and amazing music of our contemporary worship band.  For more information\, you can call the church office at 830-609-7729 X110.
URL:https://firstprotestant.com/event/second-service/2026-05-24/
CATEGORIES:Worship
END:VEVENT
BEGIN:VEVENT
DTSTART;TZID=America/Chicago:20260531T093000
DTEND;TZID=America/Chicago:20260531T103000
DTSTAMP:20260421T095832
CREATED:20250917T202220Z
LAST-MODIFIED:20251216T205046Z
UID:10002724-1780219800-1780223400@firstprotestant.com
SUMMARY:First Service
DESCRIPTION:Join us for our First Service at 9:30am.  We gather in the sanctuary and worship together every Sunday morning.  Come enjoy the worship\, fellowship and amazing music displaying our historic pipe organ.  For more information\, you can call the church office at 830-609-7729 X110.
URL:https://firstprotestant.com/event/first-service-2-2/2026-05-31/
CATEGORIES:Worship
END:VEVENT
BEGIN:VEVENT
DTSTART;TZID=America/Chicago:20260531T110000
DTEND;TZID=America/Chicago:20260531T120000
DTSTAMP:20260421T095832
CREATED:20250917T204759Z
LAST-MODIFIED:20251216T205005Z
UID:10005950-1780225200-1780228800@firstprotestant.com
SUMMARY:Second Service
DESCRIPTION:Join us for our Second Service at 11:00am.  We gather in the sanctuary and worship together every Sunday morning.  Come enjoy the worship\, fellowship and amazing music of our contemporary worship band.  For more information\, you can call the church office at 830-609-7729 X110.
URL:https://firstprotestant.com/event/second-service/2026-05-31/
CATEGORIES:Worship
END:VEVENT
END:VCALENDAR