BEGIN:VCALENDAR
VERSION:2.0
PRODID:-//First Protestant Church Of New Braunfels - ECPv6.15.20//NONSGML v1.0//EN
CALSCALE:GREGORIAN
METHOD:PUBLISH
X-ORIGINAL-URL:https://firstprotestant.com
X-WR-CALDESC:Events for First Protestant Church Of New Braunfels
REFRESH-INTERVAL;VALUE=DURATION:PT1H
X-Robots-Tag:noindex
X-PUBLISHED-TTL:PT1H
BEGIN:VTIMEZONE
TZID:America/Chicago
BEGIN:DAYLIGHT
TZOFFSETFROM:-0600
TZOFFSETTO:-0500
TZNAME:CDT
DTSTART:20250309T080000
END:DAYLIGHT
BEGIN:STANDARD
TZOFFSETFROM:-0500
TZOFFSETTO:-0600
TZNAME:CST
DTSTART:20251102T070000
END:STANDARD
BEGIN:DAYLIGHT
TZOFFSETFROM:-0600
TZOFFSETTO:-0500
TZNAME:CDT
DTSTART:20260308T080000
END:DAYLIGHT
BEGIN:STANDARD
TZOFFSETFROM:-0500
TZOFFSETTO:-0600
TZNAME:CST
DTSTART:20261101T070000
END:STANDARD
BEGIN:DAYLIGHT
TZOFFSETFROM:-0600
TZOFFSETTO:-0500
TZNAME:CDT
DTSTART:20270314T080000
END:DAYLIGHT
BEGIN:STANDARD
TZOFFSETFROM:-0500
TZOFFSETTO:-0600
TZNAME:CST
DTSTART:20271107T070000
END:STANDARD
END:VTIMEZONE
BEGIN:VEVENT
DTSTART;TZID=America/Chicago:20260301T093000
DTEND;TZID=America/Chicago:20260301T103000
DTSTAMP:20260421T100345
CREATED:20250917T202220Z
LAST-MODIFIED:20251216T205046Z
UID:10002711-1772357400-1772361000@firstprotestant.com
SUMMARY:First Service
DESCRIPTION:Join us for our First Service at 9:30am.  We gather in the sanctuary and worship together every Sunday morning.  Come enjoy the worship\, fellowship and amazing music displaying our historic pipe organ.  For more information\, you can call the church office at 830-609-7729 X110.
URL:https://firstprotestant.com/event/first-service-2-2/2026-03-01/
CATEGORIES:Worship
END:VEVENT
BEGIN:VEVENT
DTSTART;TZID=America/Chicago:20260301T110000
DTEND;TZID=America/Chicago:20260301T120000
DTSTAMP:20260421T100345
CREATED:20250917T204759Z
LAST-MODIFIED:20251216T205005Z
UID:10005937-1772362800-1772366400@firstprotestant.com
SUMMARY:Second Service
DESCRIPTION:Join us for our Second Service at 11:00am.  We gather in the sanctuary and worship together every Sunday morning.  Come enjoy the worship\, fellowship and amazing music of our contemporary worship band.  For more information\, you can call the church office at 830-609-7729 X110.
URL:https://firstprotestant.com/event/second-service/2026-03-01/
CATEGORIES:Worship
END:VEVENT
BEGIN:VEVENT
DTSTART;TZID=America/Chicago:20260308T093000
DTEND;TZID=America/Chicago:20260308T103000
DTSTAMP:20260421T100345
CREATED:20250917T202220Z
LAST-MODIFIED:20251216T205046Z
UID:10002712-1772962200-1772965800@firstprotestant.com
SUMMARY:First Service
DESCRIPTION:Join us for our First Service at 9:30am.  We gather in the sanctuary and worship together every Sunday morning.  Come enjoy the worship\, fellowship and amazing music displaying our historic pipe organ.  For more information\, you can call the church office at 830-609-7729 X110.
URL:https://firstprotestant.com/event/first-service-2-2/2026-03-08/
CATEGORIES:Worship
END:VEVENT
BEGIN:VEVENT
DTSTART;TZID=America/Chicago:20260308T110000
DTEND;TZID=America/Chicago:20260308T120000
DTSTAMP:20260421T100345
CREATED:20250917T204759Z
LAST-MODIFIED:20251216T205005Z
UID:10005938-1772967600-1772971200@firstprotestant.com
SUMMARY:Second Service
DESCRIPTION:Join us for our Second Service at 11:00am.  We gather in the sanctuary and worship together every Sunday morning.  Come enjoy the worship\, fellowship and amazing music of our contemporary worship band.  For more information\, you can call the church office at 830-609-7729 X110.
URL:https://firstprotestant.com/event/second-service/2026-03-08/
CATEGORIES:Worship
END:VEVENT
BEGIN:VEVENT
DTSTART;TZID=America/Chicago:20260315T093000
DTEND;TZID=America/Chicago:20260315T103000
DTSTAMP:20260421T100345
CREATED:20250917T202220Z
LAST-MODIFIED:20251216T205046Z
UID:10002713-1773567000-1773570600@firstprotestant.com
SUMMARY:First Service
DESCRIPTION:Join us for our First Service at 9:30am.  We gather in the sanctuary and worship together every Sunday morning.  Come enjoy the worship\, fellowship and amazing music displaying our historic pipe organ.  For more information\, you can call the church office at 830-609-7729 X110.
URL:https://firstprotestant.com/event/first-service-2-2/2026-03-15/
CATEGORIES:Worship
END:VEVENT
BEGIN:VEVENT
DTSTART;TZID=America/Chicago:20260315T110000
DTEND;TZID=America/Chicago:20260315T120000
DTSTAMP:20260421T100345
CREATED:20250917T204759Z
LAST-MODIFIED:20251216T205005Z
UID:10005939-1773572400-1773576000@firstprotestant.com
SUMMARY:Second Service
DESCRIPTION:Join us for our Second Service at 11:00am.  We gather in the sanctuary and worship together every Sunday morning.  Come enjoy the worship\, fellowship and amazing music of our contemporary worship band.  For more information\, you can call the church office at 830-609-7729 X110.
URL:https://firstprotestant.com/event/second-service/2026-03-15/
CATEGORIES:Worship
END:VEVENT
BEGIN:VEVENT
DTSTART;TZID=America/Chicago:20260322T093000
DTEND;TZID=America/Chicago:20260322T103000
DTSTAMP:20260421T100345
CREATED:20250917T202220Z
LAST-MODIFIED:20251216T205046Z
UID:10002714-1774171800-1774175400@firstprotestant.com
SUMMARY:First Service
DESCRIPTION:Join us for our First Service at 9:30am.  We gather in the sanctuary and worship together every Sunday morning.  Come enjoy the worship\, fellowship and amazing music displaying our historic pipe organ.  For more information\, you can call the church office at 830-609-7729 X110.
URL:https://firstprotestant.com/event/first-service-2-2/2026-03-22/
CATEGORIES:Worship
END:VEVENT
BEGIN:VEVENT
DTSTART;TZID=America/Chicago:20260322T110000
DTEND;TZID=America/Chicago:20260322T120000
DTSTAMP:20260421T100345
CREATED:20250917T204759Z
LAST-MODIFIED:20251216T205005Z
UID:10005940-1774177200-1774180800@firstprotestant.com
SUMMARY:Second Service
DESCRIPTION:Join us for our Second Service at 11:00am.  We gather in the sanctuary and worship together every Sunday morning.  Come enjoy the worship\, fellowship and amazing music of our contemporary worship band.  For more information\, you can call the church office at 830-609-7729 X110.
URL:https://firstprotestant.com/event/second-service/2026-03-22/
CATEGORIES:Worship
END:VEVENT
BEGIN:VEVENT
DTSTART;TZID=America/Chicago:20260329T093000
DTEND;TZID=America/Chicago:20260329T103000
DTSTAMP:20260421T100345
CREATED:20250917T202220Z
LAST-MODIFIED:20251216T205046Z
UID:10002715-1774776600-1774780200@firstprotestant.com
SUMMARY:First Service
DESCRIPTION:Join us for our First Service at 9:30am.  We gather in the sanctuary and worship together every Sunday morning.  Come enjoy the worship\, fellowship and amazing music displaying our historic pipe organ.  For more information\, you can call the church office at 830-609-7729 X110.
URL:https://firstprotestant.com/event/first-service-2-2/2026-03-29/
CATEGORIES:Worship
END:VEVENT
BEGIN:VEVENT
DTSTART;TZID=America/Chicago:20260329T110000
DTEND;TZID=America/Chicago:20260329T120000
DTSTAMP:20260421T100345
CREATED:20250917T204759Z
LAST-MODIFIED:20251216T205005Z
UID:10005941-1774782000-1774785600@firstprotestant.com
SUMMARY:Second Service
DESCRIPTION:Join us for our Second Service at 11:00am.  We gather in the sanctuary and worship together every Sunday morning.  Come enjoy the worship\, fellowship and amazing music of our contemporary worship band.  For more information\, you can call the church office at 830-609-7729 X110.
URL:https://firstprotestant.com/event/second-service/2026-03-29/
CATEGORIES:Worship
END:VEVENT
END:VCALENDAR